BEGIN:VCALENDAR
PRODID:NingEventWidget-v1
VERSION:2.0
METHOD:PUBLISH
BEGIN:VTIMEZONE
TZID:Europe/Prague
X-LIC-LOCATION:Europe/Prague
BEGIN:DAYLIGHT
TZOFFSETFROM:+0100
TZOFFSETTO:+0200
TZNAME:CEST
DTSTART:19700329T020000
RRULE:FREQ=YEARLY;BYMONTH=3;BYDAY=-1SU
END:DAYLIGHT
BEGIN:STANDARD
TZOFFSETFROM:+0200
TZOFFSETTO:+0100
TZNAME:CET
DTSTART:19701025T030000
RRULE:FREQ=YEARLY;BYMONTH=10;BYDAY=-1SU
END:STANDARD
END:VTIMEZONE
BEGIN:VEVENT
UID:3602455:Event:375123
DTSTAMP:20260423T143415Z
SUMMARY:Badminton č.4
DESCRIPTION:Ahoj PaPíci.  Máme tady nový termín na badminton: pond
 ělí 16.12.2019.  Budeme mít rezervované 1-2 kurty na 2 hodiny v Sp
 ortcentrum Step, takže pro 6 až 16 hráčů.  Sraz: 18:45 na recepci
   Hra: 19:00 - 21:00   Posezení: Po hře si můžeme přímo na míst
 ě sednout, vyhlásit výsledky a pokračovat u piva / kofoly a možn
  i večeře :)\r\nBerou Multisportku, tak dejte vědět, pokud máte,
                      \r\ndoplatek je 30 Kč.  Cen
 a: 190 Kč\r\nMůžete se těšit na nové sladké, slané i praktick
  ceny!\r\nU mě vyhrává každý účastník zájezdu....! \r\n Čí
 slo účtu:  243710066/0300 Do kolonky \"Zpráva pro příjemce\", pr
 osím, napište \"badminton 16.12. + jméno\". Po zaplacení, prosím
 , napište komentář, že jste zaplatili.  Doporučuji s sebou: - spo
 rtovní oblečení, raketu, košíčky a dobrou náladu...:) \r\n- kd
 o nemá raketu, může si na na recepci zapůjčit za 40Kč  \r\n- 
 atna je na čip, který Vám na vyžádání vydá obsluha recepce\r\
 n- ručník a mýdlo, člověk se překvapivě i zapotí...     \r
 \nNa akci můžete potkat nově i účastníky přihlášené mimo Pap
 .        Zaplaceno mají:\r\n1. Edit 2. Tritol 3. Mirek 4. Šárk
 a\r\n5. Natálka \r\n6. Jindra\r\n7, Honza\r\n\r\n\r\n\r\n\n\nPro dal
 í informace navštivte http://www.prijdapotkej.cz/events/badminton-c
 -4
DTSTART;TZID=Europe/Prague:20191216T184500
DTEND;TZID=Europe/Prague:20191216T230000
CATEGORIES:seznamovací, badminton, sport
LOCATION:Praha
WEBSITE:http://www.infinit.cz
URL:http://www.infinit.cz
CONTACT:
ORGANIZER;CN=Edita:http://www.prijdapotkej.cz/profile/EditaLuklova
ATTACH;FMTTYPE="image/jpeg":https://storage.ning.com/topology/rest/1.0
 /file/get/3631325147?profile=original
ATTENDEE;ROLE=REQ-PARTICIPANT;PARTSTAT=ACCEPTED;RSVP=TRUE;CN=Kristýna
 :http://www.prijdapotkej.cz/profile/Kristyna512
ATTENDEE;ROLE=REQ-PARTICIPANT;PARTSTAT=ACCEPTED;RSVP=TRUE;CN=Tritol:ht
 tp://www.prijdapotkej.cz/profile/LubomirBlaha
ATTENDEE;ROLE=REQ-PARTICIPANT;PARTSTAT=ACCEPTED;RSVP=TRUE;CN="Honza Ch
 .":http://www.prijdapotkej.cz/profile/HonzaCh
ATTENDEE;ROLE=REQ-PARTICIPANT;PARTSTAT=ACCEPTED;RSVP=TRUE;CN="jindra n
 ovák":http://www.prijdapotkej.cz/profile/jindrapanek
ATTENDEE;ROLE=REQ-PARTICIPANT;PARTSTAT=ACCEPTED;RSVP=TRUE;CN="Natálka
  K.":http://www.prijdapotkej.cz/profile/NatalkaK
ATTENDEE;ROLE=REQ-PARTICIPANT;PARTSTAT=ACCEPTED;RSVP=TRUE;CN=Šárka:h
 ttp://www.prijdapotkej.cz/profile/Sarka565
ATTENDEE;ROLE=REQ-PARTICIPANT;PARTSTAT=ACCEPTED;RSVP=TRUE;CN=Mirek:htt
 p://www.prijdapotkej.cz/profile/Mirek848
ATTENDEE;ROLE=REQ-PARTICIPANT;PARTSTAT=ACCEPTED;RSVP=TRUE;CN=Edita:htt
 p://www.prijdapotkej.cz/profile/EditaLuklova
ATTENDEE;ROLE=REQ-PARTICIPANT;PARTSTAT=TENTATIVE;RSVP=TRUE;CN="Jiří 
 Benda":http://www.prijdapotkej.cz/profile/JiriBenda
ATTENDEE;ROLE=REQ-PARTICIPANT;PARTSTAT=TENTATIVE;RSVP=TRUE;CN=Marek:ht
 tp://www.prijdapotkej.cz/profile/MarekVondrak
ATTENDEE;ROLE=REQ-PARTICIPANT;PARTSTAT=TENTATIVE;RSVP=TRUE;CN=Luděk:h
 ttp://www.prijdapotkej.cz/profile/Ludek
ATTENDEE;ROLE=REQ-PARTICIPANT;PARTSTAT=TENTATIVE;RSVP=TRUE;CN="Extern
  účastník č.1":http://www.prijdapotkej.cz/profile/Externiucastnik
 c1
ATTENDEE;ROLE=REQ-PARTICIPANT;PARTSTAT=TENTATIVE;RSVP=TRUE;CN="Lucka D
 ":http://www.prijdapotkej.cz/profile/LuckaD
END:VEVENT
END:VCALENDAR
