BEGIN:VCALENDAR
PRODID:NingEventWidget-v1
VERSION:2.0
METHOD:PUBLISH
BEGIN:VTIMEZONE
TZID:Europe/Prague
X-LIC-LOCATION:Europe/Prague
BEGIN:DAYLIGHT
TZOFFSETFROM:+0100
TZOFFSETTO:+0200
TZNAME:CEST
DTSTART:19700329T020000
RRULE:FREQ=YEARLY;BYMONTH=3;BYDAY=-1SU
END:DAYLIGHT
BEGIN:STANDARD
TZOFFSETFROM:+0200
TZOFFSETTO:+0100
TZNAME:CET
DTSTART:19701025T030000
RRULE:FREQ=YEARLY;BYMONTH=10;BYDAY=-1SU
END:STANDARD
END:VTIMEZONE
BEGIN:VEVENT
UID:3602455:Event:356680
DTSTAMP:20260419T170158Z
SUMMARY:BANG!
DESCRIPTION:Pojďme zahrát chytlavou karetní hru BANG! z dob Divok
 ho západu ;-) Hra je určena všem, i začátečníkům, na začátk
 u vysvětlíme pravidla a dáme první testovací kolo. Hrát se bude 
 základní verze bez rozšíření.\r\nAkce je pro 4 až 7 osob, potř
 ebujeme přesně tento počet, abychom mohli hrát. Prosím pouze o z
 vazné přihlášení.\r\nKdy\r\n22.1.2018 19:00 - 23:00, sraz na mí
 stě v 18:55\r\nKde\r\nMagic Club, U Libeňského Pivovaru 5, Praha\r
 \nCena\r\n30 Kč vyberu na místě na provoz portálu PaP\r\nZákladn
  popis hry\r\nhttps://cs.wikipedia.org/wiki/Bang!_(hra)\n\nPro dalš
  informace navštivte http://www.prijdapotkej.cz/events/bang
DTSTART;TZID=Europe/Prague:20180122T190000
DTEND;TZID=Europe/Prague:20180122T230000
CATEGORIES:zábava
LOCATION:Magic Club
WEBSITE:https://www.google.cz/maps/place/Magic+Club/@50.1073392,14.472
 8362,17z/data=!3m1!4b1!4m5!3m4!1s0x470becab1111a955:0x52d1a4b484e0ec38
 !8m2!3d50.1073392!4d14.4750249?hl=cs
URL:https://www.google.cz/maps/place/Magic+Club/@50.1073392,14.4728362
 ,17z/data=!3m1!4b1!4m5!3m4!1s0x470becab1111a955:0x52d1a4b484e0ec38!8m2
 !3d50.1073392!4d14.4750249?hl=cs
CONTACT:
ORGANIZER;CN="Zdeněk Č (PaP)":http://www.prijdapotkej.cz/profile/Zde
 nekCeska
ATTACH;FMTTYPE="image/jpeg":http://storage.ning.com/topology/rest/1.0/
 file/get/1675476104?profile=original
ATTENDEE;ROLE=REQ-PARTICIPANT;PARTSTAT=ACCEPTED;RSVP=TRUE;CN="Veronika
  (PaP)":http://www.prijdapotkej.cz/profile/Veronika898
ATTENDEE;ROLE=REQ-PARTICIPANT;PARTSTAT=ACCEPTED;RSVP=TRUE;CN=Tritol:ht
 tp://www.prijdapotkej.cz/profile/LubomirBlaha
ATTENDEE;ROLE=REQ-PARTICIPANT;PARTSTAT=ACCEPTED;RSVP=TRUE;CN="Honza Ch
 .":http://www.prijdapotkej.cz/profile/HonzaCh
ATTENDEE;ROLE=REQ-PARTICIPANT;PARTSTAT=ACCEPTED;RSVP=TRUE;CN="Pavel Ko
 lářský":http://www.prijdapotkej.cz/profile/PavelKolarsky
ATTENDEE;ROLE=REQ-PARTICIPANT;PARTSTAT=ACCEPTED;RSVP=TRUE;CN="Roman Ne
 wman":http://www.prijdapotkej.cz/profile/RomanNewman
ATTENDEE;ROLE=REQ-PARTICIPANT;PARTSTAT=ACCEPTED;RSVP=TRUE;CN="Zdeněk 
 Č (PaP)":http://www.prijdapotkej.cz/profile/ZdenekCeska
ATTENDEE;ROLE=REQ-PARTICIPANT;PARTSTAT=TENTATIVE;RSVP=TRUE;CN="Viktor 
 M":http://www.prijdapotkej.cz/profile/Viktor185
END:VEVENT
END:VCALENDAR
