BEGIN:VCALENDAR
PRODID:NingEventWidget-v1
VERSION:2.0
METHOD:PUBLISH
BEGIN:VTIMEZONE
TZID:Europe/Prague
X-LIC-LOCATION:Europe/Prague
BEGIN:DAYLIGHT
TZOFFSETFROM:+0100
TZOFFSETTO:+0200
TZNAME:CEST
DTSTART:19700329T020000
RRULE:FREQ=YEARLY;BYMONTH=3;BYDAY=-1SU
END:DAYLIGHT
BEGIN:STANDARD
TZOFFSETFROM:+0200
TZOFFSETTO:+0100
TZNAME:CET
DTSTART:19701025T030000
RRULE:FREQ=YEARLY;BYMONTH=10;BYDAY=-1SU
END:STANDARD
END:VTIMEZONE
BEGIN:VEVENT
UID:3602455:Event:373167
DTSTAMP:20260423T194636Z
SUMMARY:Bowling č.2
DESCRIPTION:Ahoj PaPíci.  Máme tady nový termín na bowling: střed
 a 13.11.2019.  Máme rezervované 2 dráhy na 2 hodiny v Xbowling Ži
 kov, takže pro 8 až 12 hráčů.  Sraz: 17:45 na bowlingu  Hra: 18
 :00 - 20:00   Posezení: Po hře si můžeme přímo na místě sednou
 t, vyhlásit výsledky a pokračovat u piva / kofoly a možná i veče
 ře :)  Cena: 220 Kč  Číslo účtu: 243710066/0300 Do kolonky \"Zpr
 áva pro příjemce\", prosím, napište \"bowling 13.11. + jméno\".
  Po zaplacení, prosím, napište komentář, že jste zaplatili.  Dop
 oručuji s sebou: - pohodlné oblečení a PONOŽKY :-)  Zaplaceno ma
 jí: 1. Hanka od Jana 2. Jano 3. Irenka 4. Tritol 5. Mirek 6. Šárka 
 7. Peter 8. Janička (kredit 220kč) 9. Pavlína 10. Jirka T. 11. Honz
 a\r\n\n\nPro další informace navštivte http://www.prijdapotkej.cz/e
 vents/bowling-c-2
DTSTART;TZID=Europe/Prague:20191113T174500
DTEND;TZID=Europe/Prague:20191113T230000
CATEGORIES:seznovací, bowling
LOCATION:Praha
WEBSITE:https://zizkov.xbowling.cz/
URL:https://zizkov.xbowling.cz/
CONTACT:
ORGANIZER;CN=Edita:http://www.prijdapotkej.cz/profile/EditaLuklova
ATTACH;FMTTYPE="image/jpeg":https://storage.ning.com/topology/rest/1.0
 /file/get/3665555082?profile=original
ATTENDEE;ROLE=REQ-PARTICIPANT;PARTSTAT=ACCEPTED;RSVP=TRUE;CN=Jano:http
 ://www.prijdapotkej.cz/profile/Jano298
ATTENDEE;ROLE=REQ-PARTICIPANT;PARTSTAT=ACCEPTED;RSVP=TRUE;CN="Pavlína
  Barnová":http://www.prijdapotkej.cz/profile/PavlinaBarnova
ATTENDEE;ROLE=REQ-PARTICIPANT;PARTSTAT=ACCEPTED;RSVP=TRUE;CN="Honza Ch
 .":http://www.prijdapotkej.cz/profile/HonzaCh
ATTENDEE;ROLE=REQ-PARTICIPANT;PARTSTAT=ACCEPTED;RSVP=TRUE;CN=Šárka:h
 ttp://www.prijdapotkej.cz/profile/Sarka565
ATTENDEE;ROLE=REQ-PARTICIPANT;PARTSTAT=ACCEPTED;RSVP=TRUE;CN="Jirka T.
 ":http://www.prijdapotkej.cz/profile/JiriTempir
ATTENDEE;ROLE=REQ-PARTICIPANT;PARTSTAT=ACCEPTED;RSVP=TRUE;CN="Peter Ho
 doš":http://www.prijdapotkej.cz/profile/PeterHodos
ATTENDEE;ROLE=REQ-PARTICIPANT;PARTSTAT=ACCEPTED;RSVP=TRUE;CN="Ján Dvo
 rský":http://www.prijdapotkej.cz/profile/JanDvorsky520
ATTENDEE;ROLE=REQ-PARTICIPANT;PARTSTAT=ACCEPTED;RSVP=TRUE;CN=Tritol:ht
 tp://www.prijdapotkej.cz/profile/LubomirBlaha
ATTENDEE;ROLE=REQ-PARTICIPANT;PARTSTAT=ACCEPTED;RSVP=TRUE;CN=Mirek:htt
 p://www.prijdapotkej.cz/profile/Mirek848
ATTENDEE;ROLE=REQ-PARTICIPANT;PARTSTAT=TENTATIVE;RSVP=TRUE;CN=Luděk:h
 ttp://www.prijdapotkej.cz/profile/Ludek
ATTENDEE;ROLE=REQ-PARTICIPANT;PARTSTAT=TENTATIVE;RSVP=TRUE;CN="Michael
 a Š.":http://www.prijdapotkej.cz/profile/MichaelaSamalova
ATTENDEE;ROLE=REQ-PARTICIPANT;PARTSTAT=TENTATIVE;RSVP=TRUE;CN=Edita:ht
 tp://www.prijdapotkej.cz/profile/EditaLuklova
END:VEVENT
END:VCALENDAR
