BEGIN:VCALENDAR
PRODID:NingEventWidget-v1
VERSION:2.0
METHOD:PUBLISH
BEGIN:VTIMEZONE
TZID:Europe/Prague
X-LIC-LOCATION:Europe/Prague
BEGIN:DAYLIGHT
TZOFFSETFROM:+0100
TZOFFSETTO:+0200
TZNAME:CEST
DTSTART:19700329T020000
RRULE:FREQ=YEARLY;BYMONTH=3;BYDAY=-1SU
END:DAYLIGHT
BEGIN:STANDARD
TZOFFSETFROM:+0200
TZOFFSETTO:+0100
TZNAME:CET
DTSTART:19701025T030000
RRULE:FREQ=YEARLY;BYMONTH=10;BYDAY=-1SU
END:STANDARD
END:VTIMEZONE
BEGIN:VEVENT
UID:3602455:Event:366124
DTSTAMP:20260423T222829Z
SUMMARY:Cyklosezóna 2019 - 0. etapa
DESCRIPTION:Jarní počasí je v plném proudu a byla by škoda opět 
 nevytáhnout kola na nějakou projížďku.\r\nPo zimě začneme zlehk
 a, abychom ověřili, že světla svítí, stěrače stírají, klakso
 n troubí a že jsme nezapomněli šlapat. Viděl bych to na cca 20 km
  na severním okraji Prahy (úpravy možné).\r\nTrasa není vhodná 
 pro silniční kola, trekové je nejspíš minimum - jede se po nezpev
 něných úsecích.\r\nPříště už to bude něco delšího...\r\nKd
 y:\r\nNeděle 14. 4. 2019\r\nKdyž budou padat trakaře, odpískáme t
 o.\r\nKde:\r\nMetro Ládví (trasa C, červená) ve 14 hodin, venku p
 řed vestibulem metra (fontána)\r\nPro koho:\r\nPro kohokoliv kdo chc
 e lehce provětrat kolo po zimě\r\nKolik to stoji:\r\nDobrovolný př
 íspěvek 30 Kč na provoz PaPu vítán.\r\nUPOZORNĚNÍ:\r\nPovinnost
 í všech účastníků je mít předpisové vybavení kola, viz. zde
 . Každý z účastníků jede na vlastní zodpovědnost!\r\n\n\nPro d
 alší informace navštivte http://www.prijdapotkej.cz/events/cyklosez
 ona-2019-0-etapa
DTSTART;TZID=Europe/Prague:20190414T140000
DTEND;TZID=Europe/Prague:20190414T170000
CATEGORIES:výlet, cyklistika
LOCATION:Praha, Zdiby
WEBSITE:https://mapy.cz/s/3qEb4
URL:https://mapy.cz/s/3qEb4
CONTACT:774 874 865 (774 TRI TOL)
ORGANIZER;CN=Tritol:http://www.prijdapotkej.cz/profile/LubomirBlaha
ATTACH;FMTTYPE="image/jpeg":http://storage.ning.com/topology/rest/1.0/
 file/get/1675479504?profile=original
ATTENDEE;ROLE=REQ-PARTICIPANT;PARTSTAT=ACCEPTED;RSVP=TRUE;CN=Mirek:htt
 p://www.prijdapotkej.cz/profile/Mirek848
ATTENDEE;ROLE=REQ-PARTICIPANT;PARTSTAT=ACCEPTED;RSVP=TRUE;CN=Tritol:ht
 tp://www.prijdapotkej.cz/profile/LubomirBlaha
END:VEVENT
END:VCALENDAR
