BEGIN:VCALENDAR
PRODID:NingEventWidget-v1
VERSION:2.0
METHOD:PUBLISH
BEGIN:VTIMEZONE
TZID:Europe/Prague
X-LIC-LOCATION:Europe/Prague
BEGIN:DAYLIGHT
TZOFFSETFROM:+0100
TZOFFSETTO:+0200
TZNAME:CEST
DTSTART:19700329T020000
RRULE:FREQ=YEARLY;BYMONTH=3;BYDAY=-1SU
END:DAYLIGHT
BEGIN:STANDARD
TZOFFSETFROM:+0200
TZOFFSETTO:+0100
TZNAME:CET
DTSTART:19701025T030000
RRULE:FREQ=YEARLY;BYMONTH=10;BYDAY=-1SU
END:STANDARD
END:VTIMEZONE
BEGIN:VEVENT
UID:3602455:Event:374948
DTSTAMP:20260423T193940Z
SUMMARY:Kulečník - Billiard č.3
DESCRIPTION:Ahoj PaPíci.  Máme tady nový termín na kulečník stř
 eda 20.11.2019.  Budeme mít rezervované 1-3 stoly na 2 hodiny v \r\
 nhttp://www.billiardpraha.cz, ideálně pro 4-12 hráčů.  Sraz: 17.4
 5 v herně  Hra: 18:00 - 20:00\r\nPosezení: Po hře si sedneme přím
 o v herně na pivo / kofolu / večeři (mají utopence, hermelín atd.
 )  Cena: 170 Kč\r\nMůžete se těšit na nové sladké, slané i pra
 ktické ceny!  Číslo účtu:  243710066 / 0300 Do kolonky \"Zpráva
  pro příjemce\", prosím, napište \"kulečník 20.11. + jmeno\". P
 o zaplacení, prosím, napište komentář, že jste zaplatili.  Dopor
 učuji s sebou: - pohodlné oblečení\r\nMinulá akce se velmi vydař
 ila, po 2h kulečníku jsme volně pokračovali 2h v šipkách.\r\n Za
 placeno mají:\r\n1. Edita\r\n2. Jano\r\n3. Marek\r\n4. Tritol\r\n5. H
 anka\r\n\r\n\n\nPro další informace navštivte http://www.prijdapotk
 ej.cz/events/kulecnik-billiard-c-3
DTSTART;TZID=Europe/Prague:20191120T174500
DTEND;TZID=Europe/Prague:20191120T230000
CATEGORIES:seznámení, sportovní
LOCATION:Praha
WEBSITE:http://www.billiardpraha.cz
URL:http://www.billiardpraha.cz
CONTACT:
ORGANIZER;CN=Edita:http://www.prijdapotkej.cz/profile/EditaLuklova
ATTACH;FMTTYPE="image/jpeg":https://storage.ning.com/topology/rest/1.0
 /file/get/3495017870?profile=original
ATTENDEE;ROLE=REQ-PARTICIPANT;PARTSTAT=ACCEPTED;RSVP=TRUE;CN=Edita:htt
 p://www.prijdapotkej.cz/profile/EditaLuklova
ATTENDEE;ROLE=REQ-PARTICIPANT;PARTSTAT=ACCEPTED;RSVP=TRUE;CN=Tritol:ht
 tp://www.prijdapotkej.cz/profile/LubomirBlaha
ATTENDEE;ROLE=REQ-PARTICIPANT;PARTSTAT=ACCEPTED;RSVP=TRUE;CN=Marek:htt
 p://www.prijdapotkej.cz/profile/MarekVondrak
ATTENDEE;ROLE=REQ-PARTICIPANT;PARTSTAT=ACCEPTED;RSVP=TRUE;CN=Jano:http
 ://www.prijdapotkej.cz/profile/Jano298
ATTENDEE;ROLE=REQ-PARTICIPANT;PARTSTAT=ACCEPTED;RSVP=TRUE;CN="Hana Ter
 eková":http://www.prijdapotkej.cz/profile/HanaTerekova
END:VEVENT
END:VCALENDAR
