BEGIN:VCALENDAR
PRODID:NingEventWidget-v1
VERSION:2.0
METHOD:PUBLISH
BEGIN:VTIMEZONE
TZID:Europe/Prague
X-LIC-LOCATION:Europe/Prague
BEGIN:DAYLIGHT
TZOFFSETFROM:+0100
TZOFFSETTO:+0200
TZNAME:CEST
DTSTART:19700329T020000
RRULE:FREQ=YEARLY;BYMONTH=3;BYDAY=-1SU
END:DAYLIGHT
BEGIN:STANDARD
TZOFFSETFROM:+0200
TZOFFSETTO:+0100
TZNAME:CET
DTSTART:19701025T030000
RRULE:FREQ=YEARLY;BYMONTH=10;BYDAY=-1SU
END:STANDARD
END:VTIMEZONE
BEGIN:VEVENT
UID:3602455:Event:375936
DTSTAMP:20260423T200049Z
SUMMARY:Kulečník - Billiard č.5 - Navýšení kapacity
DESCRIPTION:Ahoj PaPíci.  Máme tady nový termín na kulečník čtv
 rtek 9.1.2020. Budeme mít rezervované 1-3 stoly na 2 hodiny v \r\nh
 ttp://www.billiardpraha.cz, ideálně pro 4-16 hráčů.  Sraz: 17.45 
 v herně  Hra: 18:00 - 20:00\r\nPosezení: Po hře si sedneme přímo 
 v herně na pivo / kofolu / večeři (mají utopence, hermelín atd.) 
  Cena: 170 Kč\r\nMůžete se těšit na nové sladké, slané i prakt
 ické ceny!  Číslo účtu:  243710066 / 0300 Do kolonky \"Zpráva p
 ro příjemce\", prosím, napište \"kulečník 9.1. + jméno\". Po z
 aplacení, prosím, napište komentář, že jste zaplatili.  Doporuč
 uji s sebou: - pohodlné oblečení\r\nMinulá akce se velmi vydařila
 , po 2h kulečníku jsme volně pokračovali v šipkách.\r\nNa akci m
 ůžete potkat nově i účastníky přihlášené mimo Pap.\r\n Zapla
 ceno mají:\r\n1. Edita\r\n2. Jano\r\n3. Mirek\r\n4. Marek\r\n5. Radex
 \r\n6. Petr\r\n7. Tomáš\r\n8. Tritol\r\n9. Jan\r\n10. Ormi -ext.ú.1
 \r\n11. Natálka (kredit 850-170=680Kč)\r\n12.\r\n13.\r\n14.\r\n\r\n\
 r\n\r\n\n\nPro další informace navštivte http://www.prijdapotkej.cz
 /events/kulecnik-billiard-c-5
DTSTART;TZID=Europe/Prague:20200109T174500
DTEND;TZID=Europe/Prague:20200109T230000
CATEGORIES:seznámení, sportovní
LOCATION:Praha
WEBSITE:http://www.billiardpraha.cz
URL:http://www.billiardpraha.cz
CONTACT:
ORGANIZER;CN=Edita:http://www.prijdapotkej.cz/profile/EditaLuklova
ATTACH;FMTTYPE="image/jpeg":https://storage.ning.com/topology/rest/1.0
 /file/get/3495017870?profile=original
ATTENDEE;ROLE=REQ-PARTICIPANT;PARTSTAT=ACCEPTED;RSVP=TRUE;CN=Šárka:h
 ttp://www.prijdapotkej.cz/profile/Sarka565
ATTENDEE;ROLE=REQ-PARTICIPANT;PARTSTAT=ACCEPTED;RSVP=TRUE;CN="Jan Char
 vát":http://www.prijdapotkej.cz/profile/JanCharvat
ATTENDEE;ROLE=REQ-PARTICIPANT;PARTSTAT=ACCEPTED;RSVP=TRUE;CN="Petr Jan
 ik":http://www.prijdapotkej.cz/profile/PetrJanik947
ATTENDEE;ROLE=REQ-PARTICIPANT;PARTSTAT=ACCEPTED;RSVP=TRUE;CN="Externí
  účastník č.2":http://www.prijdapotkej.cz/profile/Externiucastnikc
 2
ATTENDEE;ROLE=REQ-PARTICIPANT;PARTSTAT=ACCEPTED;RSVP=TRUE;CN="Externí
  účastník č.1":http://www.prijdapotkej.cz/profile/Externiucastnikc
 1
ATTENDEE;ROLE=REQ-PARTICIPANT;PARTSTAT=ACCEPTED;RSVP=TRUE;CN=Marek:htt
 p://www.prijdapotkej.cz/profile/MarekVondrak
ATTENDEE;ROLE=REQ-PARTICIPANT;PARTSTAT=ACCEPTED;RSVP=TRUE;CN="Natálka
  K.":http://www.prijdapotkej.cz/profile/NatalkaK
ATTENDEE;ROLE=REQ-PARTICIPANT;PARTSTAT=ACCEPTED;RSVP=TRUE;CN="Ján Dvo
 rský":http://www.prijdapotkej.cz/profile/JanDvorsky520
ATTENDEE;ROLE=REQ-PARTICIPANT;PARTSTAT=ACCEPTED;RSVP=TRUE;CN="Tomaš 
 an":http://www.prijdapotkej.cz/profile/TomasCan
ATTENDEE;ROLE=REQ-PARTICIPANT;PARTSTAT=ACCEPTED;RSVP=TRUE;CN=Tritol:ht
 tp://www.prijdapotkej.cz/profile/LubomirBlaha
ATTENDEE;ROLE=REQ-PARTICIPANT;PARTSTAT=ACCEPTED;RSVP=TRUE;CN=Mirek:htt
 p://www.prijdapotkej.cz/profile/Mirek848
ATTENDEE;ROLE=REQ-PARTICIPANT;PARTSTAT=ACCEPTED;RSVP=TRUE;CN=Edita:htt
 p://www.prijdapotkej.cz/profile/EditaLuklova
ATTENDEE;ROLE=REQ-PARTICIPANT;PARTSTAT=TENTATIVE;RSVP=TRUE;CN="Roman N
 ewman":http://www.prijdapotkej.cz/profile/RomanNewman
END:VEVENT
END:VCALENDAR
