BEGIN:VCALENDAR
PRODID:NingEventWidget-v1
VERSION:2.0
METHOD:PUBLISH
BEGIN:VTIMEZONE
TZID:Europe/Prague
X-LIC-LOCATION:Europe/Prague
BEGIN:DAYLIGHT
TZOFFSETFROM:+0100
TZOFFSETTO:+0200
TZNAME:CEST
DTSTART:19700329T020000
RRULE:FREQ=YEARLY;BYMONTH=3;BYDAY=-1SU
END:DAYLIGHT
BEGIN:STANDARD
TZOFFSETFROM:+0200
TZOFFSETTO:+0100
TZNAME:CET
DTSTART:19701025T030000
RRULE:FREQ=YEARLY;BYMONTH=10;BYDAY=-1SU
END:STANDARD
END:VTIMEZONE
BEGIN:VEVENT
UID:3602455:Event:373528
DTSTAMP:20260423T185053Z
SUMMARY:Party Na Blbým Místě c.17 - ZRUSENO
DESCRIPTION:Ahoj PaPíci.  Měl by někdo zájem posedět v hospůdce,
  pojíst, popít, pokecat a poslechnout si živou kapelu Hardy's? Samo
 zřejmě je možné i zatančit si na pecky od Beatles, Bryana Adamse 
 a další hity 80'-90'.  Počet účastníků potřebuji vědět co ne
 jdříve, abych zarezervovala dostatek míst k sezení, takže pokud m
 áte zájem, nahlaste se a zbytečně s tím neotálejte :) Uzávěrka
  přihlášení je 7.10.2019.  Kdy: pátek 18.10.2019  Sraz a program
 :  - Sraz bude ve 19:00 v suterénu restaurace Na Blbým Místě (http
 ://prahanablbymmiste.cz/, V Jámě 9).  - Kolem 21/22 hodiny by měla 
 začít hrát kapela Hardy's.  Kolik to stojí:  - dobrovolny prispeve
 k na provoz PaP 30 kc - to co projíte a propijete :)\n\nPro další i
 nformace navštivte http://www.prijdapotkej.cz/events/party-na-blbym-m
 iste-17
DTSTART;TZID=Europe/Prague:20191018T190000
DTEND;TZID=Europe/Prague:20191018T233000
CATEGORIES:seznámení, zábava, taneční
LOCATION:Praha
WEBSITE:http://prahanablbymmiste.cz/
URL:http://prahanablbymmiste.cz/
CONTACT:
ORGANIZER;CN="Veronika (PaP)":http://www.prijdapotkej.cz/profile/Veron
 ika898
ATTACH;FMTTYPE="image/jpeg":http://storage.ning.com/topology/rest/1.0/
 file/get/1675478694?profile=original
ATTENDEE;ROLE=REQ-PARTICIPANT;PARTSTAT=ACCEPTED;RSVP=TRUE;CN=Marek:htt
 p://www.prijdapotkej.cz/profile/MarekVondrak
ATTENDEE;ROLE=REQ-PARTICIPANT;PARTSTAT=ACCEPTED;RSVP=TRUE;CN=Eliška25
 :http://www.prijdapotkej.cz/profile/Eliska25
ATTENDEE;ROLE=REQ-PARTICIPANT;PARTSTAT=TENTATIVE;RSVP=TRUE;CN="Michael
 a Š.":http://www.prijdapotkej.cz/profile/MichaelaSamalova
END:VEVENT
END:VCALENDAR
