BEGIN:VCALENDAR
PRODID:NingEventWidget-v1
VERSION:2.0
METHOD:PUBLISH
BEGIN:VTIMEZONE
TZID:Europe/Prague
X-LIC-LOCATION:Europe/Prague
BEGIN:DAYLIGHT
TZOFFSETFROM:+0100
TZOFFSETTO:+0200
TZNAME:CEST
DTSTART:19700329T020000
RRULE:FREQ=YEARLY;BYMONTH=3;BYDAY=-1SU
END:DAYLIGHT
BEGIN:STANDARD
TZOFFSETFROM:+0200
TZOFFSETTO:+0100
TZNAME:CET
DTSTART:19701025T030000
RRULE:FREQ=YEARLY;BYMONTH=10;BYDAY=-1SU
END:STANDARD
END:VTIMEZONE
BEGIN:VEVENT
UID:3602455:Event:374971
DTSTAMP:20260423T205711Z
SUMMARY:Pinčes č.10
DESCRIPTION:Ahoj PaPíci.  Máme tady nový termín na ping-pong: úte
 rý 5.11.2019.  Budeme mít rezervované 2 stoly na 2 hodiny v Squash 
 Holešovice (http://www.squash-holesovice.cz/), takže pro 5-8 hráč
 .  Sraz: 18:15 na recepci  Hra: 18:30 - 20:30\r\nPosezení: Po hře s
 e jdeme společensky vyžít na pivo / kofolu / večeři :)  Cena: 100
  Kč, když nás bude 8 (při menším počtu něco málo dovyberu). B
 erou multisportku, tak dejte vědět, pokud máte :-)\r\nMůžete se t
 ěšit na nové sladké, slané i praktické ceny!  Číslo účtu:  
 243710066 / 0300 Do kolonky \"Zpráva pro příjemce\", prosím, napi
 te \"pinec 5.11. + jmeno\". Po zaplacení, prosím, napište koment
 ř, že jste zaplatili.  Doporučuji s sebou: - pálku (kdo nemá, a
  dá vědět - někteří můžou vzít dvě), - čistou (ideálně s
 álovou) obuv, - sportovní oblečení, - desetikorunu (na zamčení s
 kříňky v šatně), - ručník a mýdlo (člověk se překvapivě i 
 zapotí :-) ).  Zaplaceno mají:\r\n1. Edita\r\n2. Libor\r\n3. Mirek\r
 \n4. Helenka (740-130=610kč)\r\n5. Jana \r\n6.\r\n\r\n\r\n\n\nPro dal
 ší informace navštivte http://www.prijdapotkej.cz/events/pinces-c-1
 0
DTSTART;TZID=Europe/Prague:20191105T181500
DTEND;TZID=Europe/Prague:20191105T230000
CATEGORIES:seznámení, sportovní
LOCATION:Praha
WEBSITE:http://www.squash-holesovice.cz/
URL:http://www.squash-holesovice.cz/
CONTACT:
ORGANIZER;CN=Edita:http://www.prijdapotkej.cz/profile/EditaLuklova
ATTACH;FMTTYPE="image/jpeg":https://storage.ning.com/topology/rest/1.0
 /file/get/3494907184?profile=original
ATTENDEE;ROLE=REQ-PARTICIPANT;PARTSTAT=ACCEPTED;RSVP=TRUE;CN=Edita:htt
 p://www.prijdapotkej.cz/profile/EditaLuklova
ATTENDEE;ROLE=REQ-PARTICIPANT;PARTSTAT=ACCEPTED;RSVP=TRUE;CN="Jana Vá
 peníková":http://www.prijdapotkej.cz/profile/JanaVapenikova
ATTENDEE;ROLE=REQ-PARTICIPANT;PARTSTAT=ACCEPTED;RSVP=TRUE;CN=Mirek:htt
 p://www.prijdapotkej.cz/profile/Mirek848
ATTENDEE;ROLE=REQ-PARTICIPANT;PARTSTAT=ACCEPTED;RSVP=TRUE;CN="Libor JJ
 ":http://www.prijdapotkej.cz/profile/LiborJicha
ATTENDEE;ROLE=REQ-PARTICIPANT;PARTSTAT=ACCEPTED;RSVP=TRUE;CN="Helena M
 elicharová":http://www.prijdapotkej.cz/profile/HelenaMelicharova398
ATTENDEE;ROLE=REQ-PARTICIPANT;PARTSTAT=ACCEPTED;RSVP=TRUE;CN="Drahuše
  Weinzettlová":http://www.prijdapotkej.cz/profile/DrahuseWeinzettlova
END:VEVENT
END:VCALENDAR
