BEGIN:VCALENDAR
PRODID:NingEventWidget-v1
VERSION:2.0
METHOD:PUBLISH
BEGIN:VTIMEZONE
TZID:Europe/Prague
X-LIC-LOCATION:Europe/Prague
BEGIN:DAYLIGHT
TZOFFSETFROM:+0100
TZOFFSETTO:+0200
TZNAME:CEST
DTSTART:19700329T020000
RRULE:FREQ=YEARLY;BYMONTH=3;BYDAY=-1SU
END:DAYLIGHT
BEGIN:STANDARD
TZOFFSETFROM:+0200
TZOFFSETTO:+0100
TZNAME:CET
DTSTART:19701025T030000
RRULE:FREQ=YEARLY;BYMONTH=10;BYDAY=-1SU
END:STANDARD
END:VTIMEZONE
BEGIN:VEVENT
UID:3602455:Event:374864
DTSTAMP:20260423T194356Z
SUMMARY:Pinčes č.11
DESCRIPTION:Ahoj PaPíci.  Máme tady nový termín na ping-pong: čtv
 rtek 14.11.2019.  Budeme mít rezervované 2 stoly na 2 hodiny v Squas
 h Holešovice (http://www.squash-holesovice.cz/), takže pro 5-8 hrá
 ů.  Sraz: 18:15 na recepci  Hra: 18:30 - 20:30\r\nPosezení: Po hře
  se jdeme společensky vyžít na pivo / kofolu / večeři :)  Cena: 1
 00 Kč, když nás bude 8 (při menším počtu něco málo dovyberu).
  Berou multisportku, tak dejte vědět, pokud máte :-)\r\nMůžete se
  těšit na nové sladké, slané i praktické ceny!  Číslo účtu:
  243710066 / 0300 Do kolonky \"Zpráva pro příjemce\", prosím, nap
 ište \"pinec 14.11. + jmeno\". Po zaplacení, prosím, napište kome
 ntář, že jste zaplatili.  Doporučuji s sebou: - pálku (kdo nemá,
  ať dá vědět - někteří můžou vzít dvě), - čistou (ideáln
  sálovou) obuv, - sportovní oblečení, - desetikorunu (na zamčen
  skříňky v šatně), - ručník a mýdlo (člověk se překvapivě
  i zapotí :-) ).  Zaplaceno mají:\r\n0. Libor (kredit 100Kč)\r\n0. 
 Janička \r\n1. Beatrice\r\n2. Irenka\r\n3. Mirek\r\n4. Peter\r\n5. Re
 nata (500-100=400kč)\r\n6. Žaneta\r\n7. Drahuška\r\n8.\n\nPro dalš
 í informace navštivte http://www.prijdapotkej.cz/events/pinces-c-11
DTSTART;TZID=Europe/Prague:20191114T181500
DTEND;TZID=Europe/Prague:20191114T230000
CATEGORIES:seznámení, sportovní
LOCATION:Praha
WEBSITE:http://www.squash-holesovice.cz/
URL:http://www.squash-holesovice.cz/
CONTACT:
ORGANIZER;CN=Edita:http://www.prijdapotkej.cz/profile/EditaLuklova
ATTACH;FMTTYPE="image/jpeg":https://storage.ning.com/topology/rest/1.0
 /file/get/3494907184?profile=original
ATTENDEE;ROLE=REQ-PARTICIPANT;PARTSTAT=ACCEPTED;RSVP=TRUE;CN="Beatrice
  Nolová":http://www.prijdapotkej.cz/profile/BeatriceNolova
ATTENDEE;ROLE=REQ-PARTICIPANT;PARTSTAT=ACCEPTED;RSVP=TRUE;CN="Renata 
 ":http://www.prijdapotkej.cz/profile/RenataSaskova
ATTENDEE;ROLE=REQ-PARTICIPANT;PARTSTAT=ACCEPTED;RSVP=TRUE;CN=Žaneta:h
 ttp://www.prijdapotkej.cz/profile/Zaneta
ATTENDEE;ROLE=REQ-PARTICIPANT;PARTSTAT=ACCEPTED;RSVP=TRUE;CN="Drahuše
  Weinzettlová":http://www.prijdapotkej.cz/profile/DrahuseWeinzettlova
ATTENDEE;ROLE=REQ-PARTICIPANT;PARTSTAT=ACCEPTED;RSVP=TRUE;CN="Peter Ho
 doš":http://www.prijdapotkej.cz/profile/PeterHodos
ATTENDEE;ROLE=REQ-PARTICIPANT;PARTSTAT=ACCEPTED;RSVP=TRUE;CN=Mirek:htt
 p://www.prijdapotkej.cz/profile/Mirek848
ATTENDEE;ROLE=REQ-PARTICIPANT;PARTSTAT=ACCEPTED;RSVP=TRUE;CN="Roman Ne
 wman":http://www.prijdapotkej.cz/profile/RomanNewman
ATTENDEE;ROLE=REQ-PARTICIPANT;PARTSTAT=TENTATIVE;RSVP=TRUE;CN="Libor J
 J":http://www.prijdapotkej.cz/profile/LiborJicha
END:VEVENT
END:VCALENDAR
