BEGIN:VCALENDAR
PRODID:NingEventWidget-v1
VERSION:2.0
METHOD:PUBLISH
BEGIN:VTIMEZONE
TZID:Europe/Prague
X-LIC-LOCATION:Europe/Prague
BEGIN:DAYLIGHT
TZOFFSETFROM:+0100
TZOFFSETTO:+0200
TZNAME:CEST
DTSTART:19700329T020000
RRULE:FREQ=YEARLY;BYMONTH=3;BYDAY=-1SU
END:DAYLIGHT
BEGIN:STANDARD
TZOFFSETFROM:+0200
TZOFFSETTO:+0100
TZNAME:CET
DTSTART:19701025T030000
RRULE:FREQ=YEARLY;BYMONTH=10;BYDAY=-1SU
END:STANDARD
END:VTIMEZONE
BEGIN:VEVENT
UID:3602455:Event:375114
DTSTAMP:20260423T194855Z
SUMMARY:Pinčes č.12
DESCRIPTION:Ahoj PaPíci.  Máme tady nový termín na ping-pong: stř
 eda 4.12.2019.  Budeme mít rezervované 2 stoly na 2 hodiny v Squash 
 Holešovice (http://www.squash-holesovice.cz/), takže pro 5-8 hráč
 .  Sraz: 18:15 na recepci  Hra: 18:30 - 20:30\r\nPosezení: Po hře s
 e jdeme společensky vyžít na pivo / kofolu / večeři :)  Cena: 100
  Kč, když nás bude 8 (při menším počtu něco málo dovyberu). B
 erou multisportku, tak dejte vědět, pokud máte :-)\r\nMůžete se t
 ěšit na nové sladké, slané i praktické ceny!  Číslo účtu:  
 243710066 / 0300 Do kolonky \"Zpráva pro příjemce\", prosím, napi
 te \"pinec 4.12. + jmeno\". Po zaplacení, prosím, napište koment
 ř, že jste zaplatili.  Doporučuji s sebou: - pálku (kdo nemá, a
  dá vědět - někteří můžou vzít dvě), - čistou (ideálně s
 álovou) obuv, - sportovní oblečení, - desetikorunu (na zamčení s
 kříňky v šatně), - ručník a mýdlo (člověk se překvapivě i 
 zapotí :-) ).  Zaplaceno mají:\r\n1. Edita\r\n2. Robert\r\n3. Libor\
 r\n4. Žaneta\r\n5. Petr B.\r\n6.\r\n7.\r\n8.\n\nPro další informace
  navštivte http://www.prijdapotkej.cz/events/pinces-c-12
DTSTART;TZID=Europe/Prague:20191204T181500
DTEND;TZID=Europe/Prague:20191204T230000
CATEGORIES:seznámení, sportovní
LOCATION:Praha
WEBSITE:http://www.squash-holesovice.cz/
URL:http://www.squash-holesovice.cz/
CONTACT:
ORGANIZER;CN=Edita:http://www.prijdapotkej.cz/profile/EditaLuklova
ATTACH;FMTTYPE="image/jpeg":https://storage.ning.com/topology/rest/1.0
 /file/get/3495195691?profile=original
ATTENDEE;ROLE=REQ-PARTICIPANT;PARTSTAT=ACCEPTED;RSVP=TRUE;CN="Petr Bro
 zman":http://www.prijdapotkej.cz/profile/PetrBrozman
ATTENDEE;ROLE=REQ-PARTICIPANT;PARTSTAT=ACCEPTED;RSVP=TRUE;CN=Žaneta:h
 ttp://www.prijdapotkej.cz/profile/Zaneta
ATTENDEE;ROLE=REQ-PARTICIPANT;PARTSTAT=ACCEPTED;RSVP=TRUE;CN=Rob:http:
 //www.prijdapotkej.cz/profile/Rob794
ATTENDEE;ROLE=REQ-PARTICIPANT;PARTSTAT=ACCEPTED;RSVP=TRUE;CN=Mirek:htt
 p://www.prijdapotkej.cz/profile/Mirek848
ATTENDEE;ROLE=REQ-PARTICIPANT;PARTSTAT=ACCEPTED;RSVP=TRUE;CN="Roman Ne
 wman":http://www.prijdapotkej.cz/profile/RomanNewman
ATTENDEE;ROLE=REQ-PARTICIPANT;PARTSTAT=ACCEPTED;RSVP=TRUE;CN="Libor JJ
 ":http://www.prijdapotkej.cz/profile/LiborJicha
ATTENDEE;ROLE=REQ-PARTICIPANT;PARTSTAT=ACCEPTED;RSVP=TRUE;CN="Peter Ho
 doš":http://www.prijdapotkej.cz/profile/PeterHodos
ATTENDEE;ROLE=REQ-PARTICIPANT;PARTSTAT=TENTATIVE;RSVP=TRUE;CN="Jiří 
 Benda":http://www.prijdapotkej.cz/profile/JiriBenda
ATTENDEE;ROLE=REQ-PARTICIPANT;PARTSTAT=TENTATIVE;RSVP=TRUE;CN="Drahuš
 e Weinzettlová":http://www.prijdapotkej.cz/profile/DrahuseWeinzettlov
 a
ATTENDEE;ROLE=REQ-PARTICIPANT;PARTSTAT=TENTATIVE;RSVP=TRUE;CN=Edita:ht
 tp://www.prijdapotkej.cz/profile/EditaLuklova
END:VEVENT
END:VCALENDAR
