BEGIN:VCALENDAR
PRODID:NingEventWidget-v1
VERSION:2.0
METHOD:PUBLISH
BEGIN:VTIMEZONE
TZID:Europe/Prague
X-LIC-LOCATION:Europe/Prague
BEGIN:DAYLIGHT
TZOFFSETFROM:+0100
TZOFFSETTO:+0200
TZNAME:CEST
DTSTART:19700329T020000
RRULE:FREQ=YEARLY;BYMONTH=3;BYDAY=-1SU
END:DAYLIGHT
BEGIN:STANDARD
TZOFFSETFROM:+0200
TZOFFSETTO:+0100
TZNAME:CET
DTSTART:19701025T030000
RRULE:FREQ=YEARLY;BYMONTH=10;BYDAY=-1SU
END:STANDARD
END:VTIMEZONE
BEGIN:VEVENT
UID:3602455:Event:377649
DTSTAMP:20260423T193941Z
SUMMARY:Pinčes č.16
DESCRIPTION:Ahoj kamarádi.\r\nMáme tady nový termín na ping-pong: 
 úterý 21.7.2020.  Budeme mít rezervované 2 stoly na 2 hodiny v Squ
 ash Holešovice (http://www.squash-holesovice.cz/), takže pro 5-8 hr
 čů.  Sraz: 18:15 na recepci  Hra: 18:30 - 20:30\r\nPosezení: Po h
 e se jdeme společensky vyžít na pivo / kofolu / večeři :)  Cena:
  120 Kč, když nás bude 8 (při menším počtu něco málo dovyberu
 ). Berou multisportku, tak dejte vědět, pokud máte :-)\r\nAkce je o
 bsazena podle zaplacených míst a nikoliv podle přihlášených úč
 astníků, to lze brát jen jako předběžnou \"rezervaci\"\r\nMůže
 te se těšit na nové sladké, slané i praktické ceny!  Číslo ú
 tu:  243710066 / 0300 Do kolonky \"Zpráva pro příjemce\", prosím
 , napište \"pinec 21.7. + jmeno\". Po zaplacení, prosím, napište 
 komentář, že jste zaplatili.  Doporučuji s sebou: - pálku (kdo ne
 má, ať dá vědět - někteří můžou vzít dvě), - čistou (ide
 lně sálovou) obuv, - sportovní oblečení, - desetikorunu (na zam
 ení skříňky v šatně), - ručník a mýdlo (člověk se překvap
 ivě i zapotí :-) ).  Zaplaceno mají:\r\n\r\n1. Edita\r\n2. Radka1\r
 \n3. Jana M.\r\n4. Mirek (kredit 120-120=0)\r\n5. Šárka (60kč+multi
 sportka)\r\n6. Jana \r\n7. Tomáš\r\n8.\n\nPro další informace nav
 tivte http://www.prijdapotkej.cz/events/pinces-c-16
DTSTART;TZID=Europe/Prague:20200721T181500
DTEND;TZID=Europe/Prague:20200721T230000
CATEGORIES:seznámení, sportovní
LOCATION:Praha
WEBSITE:http://www.squash-holesovice.cz/
URL:http://www.squash-holesovice.cz/
CONTACT:
ORGANIZER;CN=Edita:http://www.prijdapotkej.cz/profile/EditaLuklova
ATTACH;FMTTYPE="image/jpeg":https://storage.ning.com/topology/rest/1.0
 /file/get/3495195691?profile=original
ATTENDEE;ROLE=REQ-PARTICIPANT;PARTSTAT=ACCEPTED;RSVP=TRUE;CN=Janina:ht
 tp://www.prijdapotkej.cz/profile/Janina238
ATTENDEE;ROLE=REQ-PARTICIPANT;PARTSTAT=ACCEPTED;RSVP=TRUE;CN="Tomaš 
 an":http://www.prijdapotkej.cz/profile/TomasCan
ATTENDEE;ROLE=REQ-PARTICIPANT;PARTSTAT=ACCEPTED;RSVP=TRUE;CN=Jana:http
 ://www.prijdapotkej.cz/profile/Jana406
ATTENDEE;ROLE=REQ-PARTICIPANT;PARTSTAT=ACCEPTED;RSVP=TRUE;CN=Šárka:h
 ttp://www.prijdapotkej.cz/profile/Sarka565
ATTENDEE;ROLE=REQ-PARTICIPANT;PARTSTAT=ACCEPTED;RSVP=TRUE;CN="Externí
  účastník č.1":http://www.prijdapotkej.cz/profile/Externiucastnikc
 1
ATTENDEE;ROLE=REQ-PARTICIPANT;PARTSTAT=ACCEPTED;RSVP=TRUE;CN=Mirek:htt
 p://www.prijdapotkej.cz/profile/Mirek848
ATTENDEE;ROLE=REQ-PARTICIPANT;PARTSTAT=ACCEPTED;RSVP=TRUE;CN="Jana Vá
 peníková":http://www.prijdapotkej.cz/profile/JanaVapenikova
ATTENDEE;ROLE=REQ-PARTICIPANT;PARTSTAT=ACCEPTED;RSVP=TRUE;CN=Edita:htt
 p://www.prijdapotkej.cz/profile/EditaLuklova
ATTENDEE;ROLE=REQ-PARTICIPANT;PARTSTAT=TENTATIVE;RSVP=TRUE;CN=snooffik
 :http://www.prijdapotkej.cz/profile/JiriB
ATTENDEE;ROLE=REQ-PARTICIPANT;PARTSTAT=TENTATIVE;RSVP=TRUE;CN="jindra 
 novák":http://www.prijdapotkej.cz/profile/jindrapanek
END:VEVENT
END:VCALENDAR
