BEGIN:VCALENDAR
PRODID:NingEventWidget-v1
VERSION:2.0
METHOD:PUBLISH
BEGIN:VTIMEZONE
TZID:Europe/Prague
X-LIC-LOCATION:Europe/Prague
BEGIN:DAYLIGHT
TZOFFSETFROM:+0100
TZOFFSETTO:+0200
TZNAME:CEST
DTSTART:19700329T020000
RRULE:FREQ=YEARLY;BYMONTH=3;BYDAY=-1SU
END:DAYLIGHT
BEGIN:STANDARD
TZOFFSETFROM:+0200
TZOFFSETTO:+0100
TZNAME:CET
DTSTART:19701025T030000
RRULE:FREQ=YEARLY;BYMONTH=10;BYDAY=-1SU
END:STANDARD
END:VTIMEZONE
BEGIN:VEVENT
UID:3602455:Event:378820
DTSTAMP:20260423T202418Z
SUMMARY:Pinčes č.21
DESCRIPTION:Ahoj kamarádi.\r\nMáme tady nový termín na ping-pong: 
 pondělí 7.9.2020.  Budeme mít rezervované 2 stoly na 2 hodiny v Sq
 uash Holešovice (http://www.squash-holesovice.cz/), takže pro 5-8 hr
 áčů.  Sraz: 18:15 na recepci  Hra: 18:30 - 20:30\r\nPosezení: Po h
 ře se jdeme společensky vyžít na pivo / kofolu / večeři :)  Cena
 : 120 Kč,\r\nkdyž nás bude 8 (při menším počtu něco málo dovy
 beru). Berou multisportku, tak dejte vědět, pokud máte :-). Cena za
 hrnuje příspěvek na provoz tohoto portálu a výherní cenu pro ka
 dého hráče\r\nAkce je obsazena podle zaplacených míst a nikoliv 
 podle přihlášených účastníků, to lze brát jen jako předběž
 nou \"rezervaci\"  Číslo účtu:  243710066 / 0300 Do kolonky \"Zpr
 áva pro příjemce\", prosím, napište \"pinec 7.9. + nick\". Po za
 placení, prosím, napište komentář, že jste zaplatili.  Doporuču
 ji s sebou: - pálku (kdo nemá, ať dá vědět - někteří můžou 
 vzít dvě), - čistou (ideálně sálovou) obuv, - sportovní obleče
 ní, - desetikorunu (na zamčení skříňky v šatně), - ručník a 
 mýdlo (člověk se překvapivě i zapotí :-) ).  Zaplaceno mají:\r\
 n1. Edita\r\n2. Pepi\r\n3. Kosťa (kredit 1100-120=980kč+170 z kuleč
 níku=1150kč)\r\n4. Marek\r\n5. Irenka\r\n6. Martin\r\n7. Helenka \r\
 n8. Michal\n\nPro další informace navštivte http://www.prijdapotkej
 .cz/events/pinces-c-21
DTSTART;TZID=Europe/Prague:20200907T181500
DTEND;TZID=Europe/Prague:20200907T230000
CATEGORIES:seznámení, sportovní
LOCATION:Praha
WEBSITE:http://www.squash-holesovice.cz/
URL:http://www.squash-holesovice.cz/
CONTACT:
ORGANIZER;CN=Edita:http://www.prijdapotkej.cz/profile/EditaLuklova
ATTACH;FMTTYPE="image/jpeg":https://storage.ning.com/topology/rest/1.0
 /file/get/3495195691?profile=original
ATTENDEE;ROLE=REQ-PARTICIPANT;PARTSTAT=ACCEPTED;RSVP=TRUE;CN=Edita:htt
 p://www.prijdapotkej.cz/profile/EditaLuklova
ATTENDEE;ROLE=REQ-PARTICIPANT;PARTSTAT=ACCEPTED;RSVP=TRUE;CN="Externí
  účastník č.1":http://www.prijdapotkej.cz/profile/Externiucastnikc
 1
ATTENDEE;ROLE=REQ-PARTICIPANT;PARTSTAT=ACCEPTED;RSVP=TRUE;CN="Externí
  účastník č.3":http://www.prijdapotkej.cz/profile/Externiucastnikc
 3
ATTENDEE;ROLE=REQ-PARTICIPANT;PARTSTAT=ACCEPTED;RSVP=TRUE;CN="Externí
  účastník č.2":http://www.prijdapotkej.cz/profile/Externiucastnikc
 2
ATTENDEE;ROLE=REQ-PARTICIPANT;PARTSTAT=ACCEPTED;RSVP=TRUE;CN=Marek:htt
 p://www.prijdapotkej.cz/profile/MarekVondrak
ATTENDEE;ROLE=REQ-PARTICIPANT;PARTSTAT=ACCEPTED;RSVP=TRUE;CN="Helena M
 elicharová":http://www.prijdapotkej.cz/profile/HelenaMelicharova398
ATTENDEE;ROLE=REQ-PARTICIPANT;PARTSTAT=ACCEPTED;RSVP=TRUE;CN="Externí
  účastník č.4":http://www.prijdapotkej.cz/profile/Externiucastnikc
 4
END:VEVENT
END:VCALENDAR
