BEGIN:VCALENDAR
PRODID:NingEventWidget-v1
VERSION:2.0
METHOD:PUBLISH
BEGIN:VTIMEZONE
TZID:Europe/Prague
X-LIC-LOCATION:Europe/Prague
BEGIN:DAYLIGHT
TZOFFSETFROM:+0100
TZOFFSETTO:+0200
TZNAME:CEST
DTSTART:19700329T020000
RRULE:FREQ=YEARLY;BYMONTH=3;BYDAY=-1SU
END:DAYLIGHT
BEGIN:STANDARD
TZOFFSETFROM:+0200
TZOFFSETTO:+0100
TZNAME:CET
DTSTART:19701025T030000
RRULE:FREQ=YEARLY;BYMONTH=10;BYDAY=-1SU
END:STANDARD
END:VTIMEZONE
BEGIN:VEVENT
UID:3602455:Event:373563
DTSTAMP:20260423T024847Z
SUMMARY:Pinčes č.8
DESCRIPTION:Ahoj PaPíci.  Máme tady nový termín na ping-pong: pond
 ělí 14.10.2019.  Budeme mít rezervované 2 stoly na 2 hodiny v Squa
 sh Holešovice (http://www.squash-holesovice.cz/), takže pro 5-8 hrá
 čů.  Sraz: 18:15 na recepci  Hra: 18:30 - 20:30\r\nPosezení: Po hř
 e se jdeme společensky vyžít na pivo / kofolu / večeři :)  Cena: 
 100 Kč, když nás bude 8 (při menším počtu něco málo dovyberu)
 . Berou multisportku, tak dejte vědět, pokud máte :-)\r\nMůžete s
 e těšit na nové sladké, slané i praktické ceny!  Číslo účtu:
   243710066 / 0300 Do kolonky \"Zpráva pro příjemce\", prosím, na
 pište \"pinec 14.10. + jmeno\". Po zaplacení, prosím, napište kom
 entář, že jste zaplatili.  Doporučuji s sebou: - pálku (kdo nemá
 , ať dá vědět - někteří můžou vzít dvě), - čistou (ideáln
 ě sálovou) obuv, - sportovní oblečení, - desetikorunu (na zamčen
 í skříňky v šatně), - ručník a mýdlo (člověk se překvapiv
  i zapotí :-) ).  Zaplaceno mají:\r\n- Edita\r\n- Helenka (kredit 9
 70-100=870Kč)\r\n- Janička (kredit 370-100=270kč)\r\n- Irenka\r\n- 
 Host\r\n\r\n\n\nPro další informace navštivte http://www.prijdapotk
 ej.cz/events/pinces-c-8
DTSTART;TZID=Europe/Prague:20191014T181500
DTEND;TZID=Europe/Prague:20191014T230000
CATEGORIES:seznámení, sportovní
LOCATION:Praha
WEBSITE:http://www.squash-holesovice.cz/
URL:http://www.squash-holesovice.cz/
CONTACT:
ORGANIZER;CN=Edita:http://www.prijdapotkej.cz/profile/EditaLuklova
ATTACH;FMTTYPE="image/jpeg":https://storage.ning.com/topology/rest/1.0
 /file/get/3494907184?profile=original
ATTENDEE;ROLE=REQ-PARTICIPANT;PARTSTAT=ACCEPTED;RSVP=TRUE;CN=Edita:htt
 p://www.prijdapotkej.cz/profile/EditaLuklova
ATTENDEE;ROLE=REQ-PARTICIPANT;PARTSTAT=ACCEPTED;RSVP=TRUE;CN="Peter Ho
 doš":http://www.prijdapotkej.cz/profile/PeterHodos
ATTENDEE;ROLE=REQ-PARTICIPANT;PARTSTAT=ACCEPTED;RSVP=TRUE;CN="Helena M
 elicharová":http://www.prijdapotkej.cz/profile/HelenaMelicharova398
ATTENDEE;ROLE=REQ-PARTICIPANT;PARTSTAT=ACCEPTED;RSVP=TRUE;CN="Jana Vá
 peníková":http://www.prijdapotkej.cz/profile/JanaVapenikova
ATTENDEE;ROLE=REQ-PARTICIPANT;PARTSTAT=ACCEPTED;RSVP=TRUE;CN=Rasto:htt
 p://www.prijdapotkej.cz/profile/Rasto
ATTENDEE;ROLE=REQ-PARTICIPANT;PARTSTAT=ACCEPTED;RSVP=TRUE;CN="Renata 
 ":http://www.prijdapotkej.cz/profile/RenataSaskova
END:VEVENT
END:VCALENDAR
