BEGIN:VCALENDAR
PRODID:NingEventWidget-v1
VERSION:2.0
METHOD:PUBLISH
BEGIN:VTIMEZONE
TZID:Europe/Prague
X-LIC-LOCATION:Europe/Prague
BEGIN:DAYLIGHT
TZOFFSETFROM:+0100
TZOFFSETTO:+0200
TZNAME:CEST
DTSTART:19700329T020000
RRULE:FREQ=YEARLY;BYMONTH=3;BYDAY=-1SU
END:DAYLIGHT
BEGIN:STANDARD
TZOFFSETFROM:+0200
TZOFFSETTO:+0100
TZNAME:CET
DTSTART:19701025T030000
RRULE:FREQ=YEARLY;BYMONTH=10;BYDAY=-1SU
END:STANDARD
END:VTIMEZONE
BEGIN:VEVENT
UID:3602455:Event:367404
DTSTAMP:20260420T154955Z
SUMMARY:Ping-pong č.101
DESCRIPTION:Ahoj PaPíci.  Máme tady nový termín na ping-pong: čtv
 rtek 20.6.2019.  Budeme mít rezervované 2 stoly na 2 hodiny v Squash
  Holešovice (http://www.squash-holesovice.cz/), takže pro 6-8 hráč
 ů.  Sraz: 18:15 na recepci  Hra: 18:30 - 20:30\r\nPosezení: Po hře 
 se jdeme společensky vyžít na pivo / kofolu / večeři :)  Cena: 90
  Kč, když nás bude 8 (při menším počtu něco málo dovyberu). B
 erou multisportku, tak dejte vědět, pokud máte :-)  Číslo účtu:
  1031481016 / 3030 Do kolonky \"Zpráva pro příjemce\", prosím, nap
 ište \"pinec 20.6. + jmeno\". Po zaplacení, prosím, napište komen
 tář, že jste zaplatili.  Doporučuji s sebou: - pálku (kdo nemá, 
 ať dá vědět - někteří můžou vzít dvě), - čistou (ideálně
  sálovou) obuv, - sportovní oblečení, - desetikorunu (na zamčení
  skříňky v šatně), - ručník a mýdlo (člověk se překvapivě 
 i zapotí :-) ).  Zaplaceno mají: - Edita, Lubos, Irca\n\nPro další
  informace navštivte http://www.prijdapotkej.cz/events/ping-pong-c-10
 1
DTSTART;TZID=Europe/Prague:20190620T181500
DTEND;TZID=Europe/Prague:20190620T231500
CATEGORIES:seznámení, sportovní
LOCATION:Praha
WEBSITE:http://www.squash-holesovice.cz/
URL:http://www.squash-holesovice.cz/
CONTACT:
ORGANIZER;CN="Veronika (PaP)":http://www.prijdapotkej.cz/profile/Veron
 ika898
ATTACH;FMTTYPE="image/jpeg":http://storage.ning.com/topology/rest/1.0/
 file/get/1675446760?profile=original
ATTENDEE;ROLE=REQ-PARTICIPANT;PARTSTAT=ACCEPTED;RSVP=TRUE;CN="Tomaš 
 an":http://www.prijdapotkej.cz/profile/TomasCan
ATTENDEE;ROLE=REQ-PARTICIPANT;PARTSTAT=ACCEPTED;RSVP=TRUE;CN=Rasto:htt
 p://www.prijdapotkej.cz/profile/Rasto
ATTENDEE;ROLE=REQ-PARTICIPANT;PARTSTAT=ACCEPTED;RSVP=TRUE;CN="Peter Ho
 doš":http://www.prijdapotkej.cz/profile/PeterHodos
ATTENDEE;ROLE=REQ-PARTICIPANT;PARTSTAT=ACCEPTED;RSVP=TRUE;CN=Luboš:ht
 tp://www.prijdapotkej.cz/profile/LubosMrkus
ATTENDEE;ROLE=REQ-PARTICIPANT;PARTSTAT=ACCEPTED;RSVP=TRUE;CN="Roman Ne
 wman":http://www.prijdapotkej.cz/profile/RomanNewman
ATTENDEE;ROLE=REQ-PARTICIPANT;PARTSTAT=ACCEPTED;RSVP=TRUE;CN=Janina:ht
 tp://www.prijdapotkej.cz/profile/Janina238
ATTENDEE;ROLE=REQ-PARTICIPANT;PARTSTAT=ACCEPTED;RSVP=TRUE;CN=Edita:htt
 p://www.prijdapotkej.cz/profile/EditaLuklova
ATTENDEE;ROLE=REQ-PARTICIPANT;PARTSTAT=TENTATIVE;RSVP=TRUE;CN="Veronik
 a (PaP)":http://www.prijdapotkej.cz/profile/Veronika898
END:VEVENT
END:VCALENDAR
