BEGIN:VCALENDAR
PRODID:NingEventWidget-v1
VERSION:2.0
METHOD:PUBLISH
BEGIN:VTIMEZONE
TZID:Europe/Prague
X-LIC-LOCATION:Europe/Prague
BEGIN:DAYLIGHT
TZOFFSETFROM:+0100
TZOFFSETTO:+0200
TZNAME:CEST
DTSTART:19700329T020000
RRULE:FREQ=YEARLY;BYMONTH=3;BYDAY=-1SU
END:DAYLIGHT
BEGIN:STANDARD
TZOFFSETFROM:+0200
TZOFFSETTO:+0100
TZNAME:CET
DTSTART:19701025T030000
RRULE:FREQ=YEARLY;BYMONTH=10;BYDAY=-1SU
END:STANDARD
END:VTIMEZONE
BEGIN:VEVENT
UID:3602455:Event:92937
DTSTAMP:20260423T172622Z
SUMMARY:PRAHA - Dračí lodě
DESCRIPTION:Ahoj, nabizí se možnost vyzkoušet jak se pádluje na dr
 ačí lodi. Teamová práce je tady :-)\n\nKapacita: min. 18 lidí, ma
 x. 20 lidí (ideálně 50:50)\n\nCena: 150 kč/osoba\n\nHistorie pádl
 ování na dračích lodích začala před více než dvěma tisíci l
 ety ve staré Číně. Legenda praví, že v jednom městě žil člov
 ěk jménem Qu-Chuan [ču-juen], který se mezi obyvateli těšil zna
 né oblibě. Rovněž se politicky angažoval a stal se radním svéh
 o města. Po nějaké době však nesouhlasil s místními politickým
 i praktikami a na protest skočil z útesu do říčních vod. Když s
 e o jeho činu dozvěděli obyvatelé města, vypluli na lodích ve sn
 aze ho najít. Třebaže se jim to nepovedlo, vyplouvají na řeku ka
 doročně a bubnováním si připomínají památku tohoto legendárn
 ího muže.\n\nParametry dračích lodí schválených IDBF a EDBF:\nd
 élka: 12.49 m (bez hlavy a ocasu)\nšířka: 1.16 m\nváha: 250 kg + 
 5% (včetně posádky přibližně 2000 kg)\n\nPosádka sedí po dvou 
 vedle sebe ve směru jízdy lodi, bubeník sedí na vyvýšené stoli
 ce na přídi lodi čelem k posádce a údery do bubnu určuje tempo 
 pádlování a kormidelník ze stoje na zádi řídí loď dlouhým p
 dlem volně umístěným mezi dvěma kolíky.\n\nProsim věnujte pozo
 rnost tabulce. Loď by měla být optimálně vyvážena.\n\n\nPlatebn
 í podmínky: pro rezervaci je nutná platba předem, tedy 150 Kč na 
 účet číslo 670100-2206480790/6210. Variabilní symbol akce je 704,
  do poznámky prosím vepište vaši přezdívku zde na portále. Víc
 e info viz. Platby za PaP aktivity (kdo má s převodem potíže, pros
 ím kontaktujte PaPíka (papik@prijdapotkej.cz), něco vymyslíme).\n\
 n---------------------------------------------------------------------
 ----------------------\nGarantovaná účast:\n\nPánové:\n1. Štěp
 n\n2. Foxik\n3. Jarda T - OK, platba provedena, místo garantováno\n
 4. Jarda E - OK, platba provedena, místo garantováno\n5. Michal N\n6
 . Nibiru - OK, platba provedena, místo garantováno\n7. Martin Kýjon
 ka - OK, platba provedena, místo garantováno\n8. Josef Krčmárik\n9
 . Honzin - OK, platba provedena, místo garantováno\n10. Petr D - OK,
  platba provedena, místo garantováno\n\nNáhradníci:\nchalupa Petr\
 nHonza\ntomas moravec\nMartin\nDavid\n\nDámy:\n1. Jana B - OK, platba
  provedena, místo garantováno\n2. Michaela D\n3. Michaela ST - OK, p
 latba provedena, místo garantováno\n4. Zuzana P - OK, platba provede
 na, místo garantováno\n5. Milada\n6. Zuzy S\n7. Veronika H - OK, pla
 tba provedena, místo garantováno\n8. Lada\n9. Lucka D.- OK, platba p
 rovedena, místo garantováno\n10. Hanka Dudu - OK, platba provedena, 
 místo garantováno\n\n\nNáhradníci:\n\nPro další informace navšt
 ivte http://www.prijdapotkej.cz/events/praha-draci-lode
DTSTART;TZID=Europe/Prague:20100407T181500
DTEND;TZID=Europe/Prague:20100407T193000
CATEGORIES:sport, seznámení, zábava
LOCATION:Praha
WEBSITE:http://www.mapy.cz/#x=133054592@y=135832320@z=14@mm=ZP@ax=1330
 54400@ay=135832384@at=Lod%C4%9Bnice%20PDBC@ad=Na%20tomto%20m%C3%ADst%C
 4%9B%20se%20nach%C3%A1z%C3%AD%20lod%C4%9Bnice%20Pra%C5%BEsk%C3%A9ho%20
 klubu%20dra%C4%8D%C3%ADch%20lod%C3%AD.%20Zde%20se%20tak%C3%A9%20ka%C5%
 BEd%C3%BD%20%C4%8Dtvrtek%20od%2018ti%20hodin%20konaj%C3%AD%20voln%C3%A
 9%20tr%C3%A9ninky.
URL:http://www.mapy.cz/#x=133054592@y=135832320@z=14@mm=ZP@ax=13305440
 0@ay=135832384@at=Lod%C4%9Bnice%20PDBC@ad=Na%20tomto%20m%C3%ADst%C4%9B
 %20se%20nach%C3%A1z%C3%AD%20lod%C4%9Bnice%20Pra%C5%BEsk%C3%A9ho%20klub
 u%20dra%C4%8D%C3%ADch%20lod%C3%AD.%20Zde%20se%20tak%C3%A9%20ka%C5%BEd%
 C3%BD%20%C4%8Dtvrtek%20od%2018ti%20hodin%20konaj%C3%AD%20voln%C3%A9%20
 tr%C3%A9ninky.
CONTACT:737 200 733
ORGANIZER:Štěpán
ATTACH;FMTTYPE="image/jpeg":http://storage.ning.com/topology/rest/1.0/
 file/get/1675383821?profile=original
ATTENDEE;ROLE=REQ-PARTICIPANT;PARTSTAT=ACCEPTED;RSVP=TRUE;CN="Sandra M
 ühlauová":http://www.prijdapotkej.cz/profile/SandraMuehlauova
ATTENDEE;ROLE=REQ-PARTICIPANT;PARTSTAT=ACCEPTED;RSVP=TRUE;CN=David:htt
 p://www.prijdapotkej.cz/profile/DavidStejskal
ATTENDEE;ROLE=REQ-PARTICIPANT;PARTSTAT=ACCEPTED;RSVP=TRUE;CN="Martin (
 PaP)":http://www.prijdapotkej.cz/profile/Martin
ATTENDEE;ROLE=REQ-PARTICIPANT;PARTSTAT=ACCEPTED;RSVP=TRUE;CN="tomas mo
 ravec":http://www.prijdapotkej.cz/profile/tomasmoravec
ATTENDEE;ROLE=REQ-PARTICIPANT;PARTSTAT=ACCEPTED;RSVP=TRUE;CN=Honza:htt
 p://www.prijdapotkej.cz/profile/Honza
ATTENDEE;ROLE=REQ-PARTICIPANT;PARTSTAT=ACCEPTED;RSVP=TRUE;CN="chalupa 
 (Petr)":http://www.prijdapotkej.cz/profile/PetrChaloupka
ATTENDEE;ROLE=REQ-PARTICIPANT;PARTSTAT=ACCEPTED;RSVP=TRUE;CN="Hanka D"
 :http://www.prijdapotkej.cz/profile/HankaDudu
ATTENDEE;ROLE=REQ-PARTICIPANT;PARTSTAT=ACCEPTED;RSVP=TRUE;CN="Lucka D"
 :http://www.prijdapotkej.cz/profile/LuckaD
ATTENDEE;ROLE=REQ-PARTICIPANT;PARTSTAT=ACCEPTED;RSVP=TRUE;CN="Petr D."
 :http://www.prijdapotkej.cz/profile/PetrD
ATTENDEE;ROLE=REQ-PARTICIPANT;PARTSTAT=ACCEPTED;RSVP=TRUE;CN=Lada:http
 ://www.prijdapotkej.cz/profile/Lada
ATTENDEE;ROLE=REQ-PARTICIPANT;PARTSTAT=ACCEPTED;RSVP=TRUE;CN=Nibiru:ht
 tp://www.prijdapotkej.cz/profile/Nibiru
ATTENDEE;ROLE=REQ-PARTICIPANT;PARTSTAT=ACCEPTED;RSVP=TRUE;CN="Jarda T.
 ":http://www.prijdapotkej.cz/profile/Jaroslav
ATTENDEE;ROLE=REQ-PARTICIPANT;PARTSTAT=ACCEPTED;RSVP=TRUE;CN=Foxik:htt
 p://www.prijdapotkej.cz/profile/TomasZ
ATTENDEE;ROLE=REQ-PARTICIPANT;PARTSTAT=TENTATIVE;RSVP=TRUE;CN=Bára-Va
 l:http://www.prijdapotkej.cz/profile/BaraVal
ATTENDEE;ROLE=REQ-PARTICIPANT;PARTSTAT=TENTATIVE;RSVP=TRUE;CN="Katka V
 .":http://www.prijdapotkej.cz/profile/KaterinaaVrbova
ATTENDEE;ROLE=REQ-PARTICIPANT;PARTSTAT=TENTATIVE;RSVP=TRUE;CN=Anicka:h
 ttp://www.prijdapotkej.cz/profile/Anicka
ATTENDEE;ROLE=REQ-PARTICIPANT;PARTSTAT=TENTATIVE;RSVP=TRUE;CN="Andrea 
 B.":http://www.prijdapotkej.cz/profile/AndreaB
ATTENDEE;ROLE=REQ-PARTICIPANT;PARTSTAT=TENTATIVE;RSVP=TRUE;CN=Lucka:ht
 tp://www.prijdapotkej.cz/profile/Lucka
ATTENDEE;ROLE=REQ-PARTICIPANT;PARTSTAT=TENTATIVE;RSVP=TRUE;CN=Mišák:
 http://www.prijdapotkej.cz/profile/MichalHabada
END:VEVENT
END:VCALENDAR
