BEGIN:VCALENDAR
PRODID:NingEventWidget-v1
VERSION:2.0
METHOD:PUBLISH
BEGIN:VTIMEZONE
TZID:Europe/Prague
X-LIC-LOCATION:Europe/Prague
BEGIN:DAYLIGHT
TZOFFSETFROM:+0100
TZOFFSETTO:+0200
TZNAME:CEST
DTSTART:19700329T020000
RRULE:FREQ=YEARLY;BYMONTH=3;BYDAY=-1SU
END:DAYLIGHT
BEGIN:STANDARD
TZOFFSETFROM:+0200
TZOFFSETTO:+0100
TZNAME:CET
DTSTART:19701025T030000
RRULE:FREQ=YEARLY;BYMONTH=10;BYDAY=-1SU
END:STANDARD
END:VTIMEZONE
BEGIN:VEVENT
UID:3602455:Event:98790
DTSTAMP:20260423T174249Z
SUMMARY:Praha - Inline projížďka II (Stromovka-Troja)
DESCRIPTION:Na vyjížďce prověříme síly po dlouhé zimě. Nejdř
 ív projedeme cesty ve Stromovce a pak se přesuneme na druhý břeh V
 ltavy do Tróje, Podhoří a Zámků..\nPo cestě možnosti drobného 
 občerstvení.\n\nSraz: 17:30 u Výstaviště, Holešovice, Praha\n(u 
 pomníku se schody v blízkosti tram smyčky)\n\nNapište mi, kdo se p
 řipojí v 18:00, toho vyzvednu na Výstavišti, ostatní se připojí
  operativně kolem Troje.\n\nSpojení: tram 5,12,14,15,17\n\nMožné s
 e připojit i později po cestě, avšak si zavolejte, kde jsme.\nTakt
 éž pokud se ještě neznáme, uložte si mé číslo, ať se zbyteč
 ně někde nehledáme.\n\nPravidlo: rychlejší respektují pomalejš
 \n\nVýbava: inline brusle, chrániče (, helma)\nZkontrolujte včas 
 stav bruslí po minulé sezóně.\n\nKonec: až se unavíme max. do 19
 h\n\nTrasa: odkaz\n\nVýhodou této trasy na pravém břehu podél ZOO
  je nový kvalitní povrch, relativně malá návštěvnost, takže ve
 lký prostor pro sportovní výkony, krásná příroda. Nevýhodou je
  absence takového množství občerstevní jako třeba na modřanské
  stezce, ale nejedeme se přeci cpát klobásami a sedět v zahrádce 
 na pivu ne?\n\nV případě předpovědi s deštěm, např. podle www.
 medard-online.cz, může být akce den předem zrušena.\n\nPro dalš
  informace navštivte http://www.prijdapotkej.cz/events/praha-inline-
 projizdka-ii
DTSTART;TZID=Europe/Prague:20100408T173000
DTEND;TZID=Europe/Prague:20100408T190000
CATEGORIES:inline, sport, pokec
LOCATION:Praha - Stromovka, Troja
WEBSITE:
URL:
CONTACT:776 814 841
ORGANIZER;CN="Jirk@":http://www.prijdapotkej.cz/profile/Jirka_P
ATTACH;FMTTYPE="image/jpeg":http://storage.ning.com/topology/rest/1.0/
 file/get/1675387124?profile=original
ATTENDEE;ROLE=REQ-PARTICIPANT;PARTSTAT=ACCEPTED;RSVP=TRUE;CN=Michal:ht
 tp://www.prijdapotkej.cz/profile/MichalC
ATTENDEE;ROLE=REQ-PARTICIPANT;PARTSTAT=ACCEPTED;RSVP=TRUE;CN="Dušan T
 .":http://www.prijdapotkej.cz/profile/DusanT
ATTENDEE;ROLE=REQ-PARTICIPANT;PARTSTAT=ACCEPTED;RSVP=TRUE;CN="Ivana H.
 ":http://www.prijdapotkej.cz/profile/IvanaH
ATTENDEE;ROLE=REQ-PARTICIPANT;PARTSTAT=ACCEPTED;RSVP=TRUE;CN="Jirk@":h
 ttp://www.prijdapotkej.cz/profile/Jirka_P
ATTENDEE;ROLE=REQ-PARTICIPANT;PARTSTAT=ACCEPTED;RSVP=TRUE;CN=Veronique
 :http://www.prijdapotkej.cz/profile/VeronikaZ
ATTENDEE;ROLE=REQ-PARTICIPANT;PARTSTAT=TENTATIVE;RSVP=TRUE;CN=Dave:htt
 p://www.prijdapotkej.cz/profile/Dave
ATTENDEE;ROLE=REQ-PARTICIPANT;PARTSTAT=TENTATIVE;RSVP=TRUE;CN=JiříK:
 http://www.prijdapotkej.cz/profile/JiriK479
ATTENDEE;ROLE=REQ-PARTICIPANT;PARTSTAT=TENTATIVE;RSVP=TRUE;CN="Michal 
 N":http://www.prijdapotkej.cz/profile/MichalNovotny
ATTENDEE;ROLE=REQ-PARTICIPANT;PARTSTAT=TENTATIVE;RSVP=TRUE;CN=Lucka:ht
 tp://www.prijdapotkej.cz/profile/Lucka
ATTENDEE;ROLE=REQ-PARTICIPANT;PARTSTAT=TENTATIVE;RSVP=TRUE;CN=Anicka:h
 ttp://www.prijdapotkej.cz/profile/Anicka
ATTENDEE;ROLE=REQ-PARTICIPANT;PARTSTAT=TENTATIVE;RSVP=TRUE;CN="Gabriel
 a M.":http://www.prijdapotkej.cz/profile/GabrielaMuellerova
ATTENDEE;ROLE=REQ-PARTICIPANT;PARTSTAT=TENTATIVE;RSVP=TRUE;CN="Alena 
 ":http://www.prijdapotkej.cz/profile/AlenaS
END:VEVENT
END:VCALENDAR
