BEGIN:VCALENDAR
PRODID:NingEventWidget-v1
VERSION:2.0
METHOD:PUBLISH
BEGIN:VTIMEZONE
TZID:Europe/Prague
X-LIC-LOCATION:Europe/Prague
BEGIN:DAYLIGHT
TZOFFSETFROM:+0100
TZOFFSETTO:+0200
TZNAME:CEST
DTSTART:19700329T020000
RRULE:FREQ=YEARLY;BYMONTH=3;BYDAY=-1SU
END:DAYLIGHT
BEGIN:STANDARD
TZOFFSETFROM:+0200
TZOFFSETTO:+0100
TZNAME:CET
DTSTART:19701025T030000
RRULE:FREQ=YEARLY;BYMONTH=10;BYDAY=-1SU
END:STANDARD
END:VTIMEZONE
BEGIN:VEVENT
UID:3602455:Event:92080
DTSTAMP:20260423T164236Z
SUMMARY:PRAHA - Karaoke v Melounu (cantiamo tutti insieme)
DESCRIPTION:A je tady....tesili jste se? Tak snad ano, snad ne...dalsi
  PaP Karaoke je tady mezi nama....pokud chcete zpivat a nebo jenom se 
 bavit a mozna i trochu si delat legraci z tech dobrovolnych zpivaku...
 tak jste na spravne miste :-))\n\nSraz je pred podnikem v 20.45, pokud
  nebude zima jinak pockam na vas dole :-))\n\nTady mate link http://ww
 w.hudebniklubmeloun.cz/\n\nNeni nutne zpivat ale je nutne se bavit...t
 eda pocitam s vama.\n\nTak preji vam hezkou zabavu a dobrou naladu...:
 -)\n\nMarco\n\nPro dalÅ¡Ã­ informace navÅ¡tivte http://www.prijdapotke
 j.cz/events/praha-karaoke-v-melounu
DTSTART;TZID=Europe/Prague:20100407T210000
DTEND;TZID=Europe/Prague:20100407T234500
CATEGORIES:zabava, setkani, pokec, seznameni
LOCATION:Praha 1- Meloun
WEBSITE:http://mapy.cz/#mm=ZP@sa=s@st=s@ssq=N%C3%81RODN%C3%8D%2011%20p
 raha@sss=1@ssp=139385165_131610525_139401549_131624317@x=133062924@y=1
 35932014@z=16
URL:http://mapy.cz/#mm=ZP@sa=s@st=s@ssq=N%C3%81RODN%C3%8D%2011%20praha
 @sss=1@ssp=139385165_131610525_139401549_131624317@x=133062924@y=13593
 2014@z=16
CONTACT:774484571
ORGANIZER;CN=Marco:http://www.prijdapotkej.cz/profile/MarcoMastrocinqu
 e
ATTACH;FMTTYPE="image/jpeg":http://storage.ning.com/topology/rest/1.0/
 file/get/1675384462?profile=original
ATTENDEE;ROLE=REQ-PARTICIPANT;PARTSTAT=ACCEPTED;RSVP=TRUE;CN="DuÅ¡an T
 .":http://www.prijdapotkej.cz/profile/DusanT
ATTENDEE;ROLE=REQ-PARTICIPANT;PARTSTAT=ACCEPTED;RSVP=TRUE;CN=Jani:http
 ://www.prijdapotkej.cz/profile/JanaNecasova
ATTENDEE;ROLE=REQ-PARTICIPANT;PARTSTAT=ACCEPTED;RSVP=TRUE;CN=Petro:htt
 p://www.prijdapotkej.cz/profile/Petro
ATTENDEE;ROLE=REQ-PARTICIPANT;PARTSTAT=ACCEPTED;RSVP=TRUE;CN="SoÅˆa H.
 ":http://www.prijdapotkej.cz/profile/SonaHavelkova
ATTENDEE;ROLE=REQ-PARTICIPANT;PARTSTAT=ACCEPTED;RSVP=TRUE;CN=VrÃ¡Å¥a:h
 ttp://www.prijdapotkej.cz/profile/Vrata
ATTENDEE;ROLE=REQ-PARTICIPANT;PARTSTAT=ACCEPTED;RSVP=TRUE;CN="Eva Z.":
 http://www.prijdapotkej.cz/profile/EvaZarubova
ATTENDEE;ROLE=REQ-PARTICIPANT;PARTSTAT=ACCEPTED;RSVP=TRUE;CN=Anna:http
 ://www.prijdapotkej.cz/profile/Anna
ATTENDEE;ROLE=REQ-PARTICIPANT;PARTSTAT=ACCEPTED;RSVP=TRUE;CN="Ivo K.":
 http://www.prijdapotkej.cz/profile/IvoK277
ATTENDEE;ROLE=REQ-PARTICIPANT;PARTSTAT=ACCEPTED;RSVP=TRUE;CN="Jana J."
 :http://www.prijdapotkej.cz/profile/Jana232
ATTENDEE;ROLE=REQ-PARTICIPANT;PARTSTAT=ACCEPTED;RSVP=TRUE;CN=zenobia:h
 ttp://www.prijdapotkej.cz/profile/zenobia
ATTENDEE;ROLE=REQ-PARTICIPANT;PARTSTAT=ACCEPTED;RSVP=TRUE;CN=Matt:http
 ://www.prijdapotkej.cz/profile/JanZ
ATTENDEE;ROLE=REQ-PARTICIPANT;PARTSTAT=ACCEPTED;RSVP=TRUE;CN="chalupa 
 (Petr)":http://www.prijdapotkej.cz/profile/PetrChaloupka
ATTENDEE;ROLE=REQ-PARTICIPANT;PARTSTAT=ACCEPTED;RSVP=TRUE;CN="Eva - ( 
 EvuÅ¡Ã¡kovÃ¡ )":http://www.prijdapotkej.cz/profile/EvaEvusakova
ATTENDEE;ROLE=REQ-PARTICIPANT;PARTSTAT=ACCEPTED;RSVP=TRUE;CN=mÃ­Å¡A:ht
 tp://www.prijdapotkej.cz/profile/MichaelaC
ATTENDEE;ROLE=REQ-PARTICIPANT;PARTSTAT=ACCEPTED;RSVP=TRUE;CN=Marco:htt
 p://www.prijdapotkej.cz/profile/MarcoMastrocinque
ATTENDEE;ROLE=REQ-PARTICIPANT;PARTSTAT=TENTATIVE;RSVP=TRUE;CN=TomÃ¡Å¡:
 http://www.prijdapotkej.cz/profile/Tomasek
ATTENDEE;ROLE=REQ-PARTICIPANT;PARTSTAT=TENTATIVE;RSVP=TRUE;CN=Karel-Bi
 llykid:http://www.prijdapotkej.cz/profile/billykid
ATTENDEE;ROLE=REQ-PARTICIPANT;PARTSTAT=TENTATIVE;RSVP=TRUE;CN="Martina
  D":http://www.prijdapotkej.cz/profile/Martina439
ATTENDEE;ROLE=REQ-PARTICIPANT;PARTSTAT=TENTATIVE;RSVP=TRUE;CN=KÅ¯Å¥a:h
 ttp://www.prijdapotkej.cz/profile/JanKucera
ATTENDEE;ROLE=REQ-PARTICIPANT;PARTSTAT=TENTATIVE;RSVP=TRUE;CN="FrantiÅ
 ¡ek NovÃ¡k":http://www.prijdapotkej.cz/profile/FrantisekNovak
ATTENDEE;ROLE=REQ-PARTICIPANT;PARTSTAT=TENTATIVE;RSVP=TRUE;CN=BÃ¡ra-Va
 l:http://www.prijdapotkej.cz/profile/BaraVal
ATTENDEE;ROLE=REQ-PARTICIPANT;PARTSTAT=TENTATIVE;RSVP=TRUE;CN="Eva -ov
 Ã¡":http://www.prijdapotkej.cz/profile/Evaova
ATTENDEE;ROLE=REQ-PARTICIPANT;PARTSTAT=TENTATIVE;RSVP=TRUE;CN=Verdana:
 http://www.prijdapotkej.cz/profile/Verdana
ATTENDEE;ROLE=REQ-PARTICIPANT;PARTSTAT=TENTATIVE;RSVP=TRUE;CN="Marcel 
 V":http://www.prijdapotkej.cz/profile/MarcelV
ATTENDEE;ROLE=REQ-PARTICIPANT;PARTSTAT=TENTATIVE;RSVP=TRUE;CN=JiÅ™Ã­K:
 http://www.prijdapotkej.cz/profile/JiriK479
ATTENDEE;ROLE=REQ-PARTICIPANT;PARTSTAT=TENTATIVE;RSVP=TRUE;CN=Oskar:ht
 tp://www.prijdapotkej.cz/profile/OszkarSolti
ATTENDEE;ROLE=REQ-PARTICIPANT;PARTSTAT=TENTATIVE;RSVP=TRUE;CN="Jarda M
 .":http://www.prijdapotkej.cz/profile/JardaMai
ATTENDEE;ROLE=REQ-PARTICIPANT;PARTSTAT=TENTATIVE;RSVP=TRUE;CN="Petr M.
 ":http://www.prijdapotkej.cz/profile/PetrM
ATTENDEE;ROLE=REQ-PARTICIPANT;PARTSTAT=TENTATIVE;RSVP=TRUE;CN="Jarka T
 ":http://www.prijdapotkej.cz/profile/JarkaTuzarova
ATTENDEE;ROLE=REQ-PARTICIPANT;PARTSTAT=TENTATIVE;RSVP=TRUE;CN="Jirk@":
 http://www.prijdapotkej.cz/profile/Jirka_P
ATTENDEE;ROLE=REQ-PARTICIPANT;PARTSTAT=TENTATIVE;RSVP=TRUE;CN="Martin 
 RS":http://www.prijdapotkej.cz/profile/MartinRS
ATTENDEE;ROLE=REQ-PARTICIPANT;PARTSTAT=TENTATIVE;RSVP=TRUE;CN="Roman K
 .":http://www.prijdapotkej.cz/profile/Roman
ATTENDEE;ROLE=REQ-PARTICIPANT;PARTSTAT=TENTATIVE;RSVP=TRUE;CN="Martin 
 KÃ½jonka":http://www.prijdapotkej.cz/profile/MartinKyjonka
ATTENDEE;ROLE=REQ-PARTICIPANT;PARTSTAT=TENTATIVE;RSVP=TRUE;CN="Jana R.
 ":http://www.prijdapotkej.cz/profile/JanaR
ATTENDEE;ROLE=REQ-PARTICIPANT;PARTSTAT=TENTATIVE;RSVP=TRUE;CN="Kamila 
 V":http://www.prijdapotkej.cz/profile/KamilaV
ATTENDEE;ROLE=REQ-PARTICIPANT;PARTSTAT=TENTATIVE;RSVP=TRUE;CN=Honzin:h
 ttp://www.prijdapotkej.cz/profile/Honza593
ATTENDEE;ROLE=REQ-PARTICIPANT;PARTSTAT=TENTATIVE;RSVP=TRUE;CN=Misa:htt
 p://www.prijdapotkej.cz/profile/Misa
ATTENDEE;ROLE=REQ-PARTICIPANT;PARTSTAT=TENTATIVE;RSVP=TRUE;CN="Michal 
 A":http://www.prijdapotkej.cz/profile/MichalA
ATTENDEE;ROLE=REQ-PARTICIPANT;PARTSTAT=TENTATIVE;RSVP=TRUE;CN="Petr L"
 :http://www.prijdapotkej.cz/profile/PetrL
ATTENDEE;ROLE=REQ-PARTICIPANT;PARTSTAT=TENTATIVE;RSVP=TRUE;CN=MiÅ¡Ã¡k:
 http://www.prijdapotkej.cz/profile/MichalHabada
ATTENDEE;ROLE=REQ-PARTICIPANT;PARTSTAT=TENTATIVE;RSVP=TRUE;CN=Lucka:ht
 tp://www.prijdapotkej.cz/profile/Lucka
ATTENDEE;ROLE=REQ-PARTICIPANT;PARTSTAT=TENTATIVE;RSVP=TRUE;CN="Gabriel
 a M.":http://www.prijdapotkej.cz/profile/GabrielaMuellerova
ATTENDEE;ROLE=REQ-PARTICIPANT;PARTSTAT=TENTATIVE;RSVP=TRUE;CN="Petra D
 .":http://www.prijdapotkej.cz/profile/PetraDuskova
END:VEVENT
END:VCALENDAR
