BEGIN:VCALENDAR
PRODID:NingEventWidget-v1
VERSION:2.0
METHOD:PUBLISH
BEGIN:VTIMEZONE
TZID:Europe/Prague
X-LIC-LOCATION:Europe/Prague
BEGIN:DAYLIGHT
TZOFFSETFROM:+0100
TZOFFSETTO:+0200
TZNAME:CEST
DTSTART:19700329T020000
RRULE:FREQ=YEARLY;BYMONTH=3;BYDAY=-1SU
END:DAYLIGHT
BEGIN:STANDARD
TZOFFSETFROM:+0200
TZOFFSETTO:+0100
TZNAME:CET
DTSTART:19701025T030000
RRULE:FREQ=YEARLY;BYMONTH=10;BYDAY=-1SU
END:STANDARD
END:VTIMEZONE
BEGIN:VEVENT
UID:3602455:Event:97762
DTSTAMP:20260423T150132Z
SUMMARY:PRAHA - Squash
DESCRIPTION:A máme tady další squash... Tentokrát je akce určena 
 pro pokročilejší hráče, musíme začít trénovat na náš 1. tur
 nájek ;)\n\nTermín: Úterý 6.4.2010, 19:00 - 20:00 (sraz 18:40 na m
 ostíku u parkoviště; za ošklivého počasí nahoře před vchodem)
 \n\nMísto: sportovní areál Hamr Záběhlice\n\nPočet hráčů na 1
  kurt: 2 (+ 1 na střídání)\nPreferujeme poměr 50:50, tedy 6 dam a
  6 pánů. Nebude-li do daného termínu obsazeno v tomto poměru, dop
 lníme podle zájmu.\n\nRezervace: 4 kurty\n\nKapacita akce: 12 hráč
 ů (min 8)\n\nPlatební podmínky: pro rezervaci je nutná platba pře
 dem do 2.4., tedy 130 Kč na účet číslo 670100-2206480790/6210. Va
 riabilní symbol akce je 604, do poznámky prosím vepište vaši pře
 zdívku zde na portále. Více info viz. Platby za PaP aktivity (kdo m
 á s převodem potíže, prosím kontaktujte PaPíka (papik@prijdapotk
 ej.cz), něco vymyslíme).\n\n\nOrganizátor: Simona, Andrea N.\n\nSpo
 jení:\nMHD:\nMetro \"C\" ze stanice Pankrác: BUS č.188 zastávka V 
 Korytech\nMetro \"C\" ze stanice Roztyly: BUS č.118 zastávka Měchen
 ická\nMetro \"A\" ze stanice Skalka: BUS č.101 zastávka V Korytech\
 nMetro \"A\" ze stanice Strašnická: BUS č.188 zastávka V Korytech\
 nTRAM č.11 - konečná zastávka Spořilov\nAutem\nvjezd a parking z 
 ulice Záběhlické\n\n-----------------------------------------------
 ----------------------------------------\n\nGarantovaná účast - pro
 síme o platbu co nejdříve\n\nPánové:\n1. Daniel Ryšavý\n2. Mich
 al - ok, platba provedena\n3. Adam Buriánek\n4. Josito - ok, platba p
 rovedena\n5. JiříK- platba proběhla 16.04\n6.\n\nNáhradníci - pro
 sím zatím neplaťte:\n\n\nDámy:\n\n1. Andrea N - organizátor\n2. O
 lga T - placeno\n3. Jitka\n4.\n5.\n6.\n\nNáhradníci - prosím zatím
  neplaťte:\n\nPro další informace navštivte http://www.prijdapotke
 j.cz/events/praha-squash-14
DTSTART;TZID=Europe/Prague:20100406T190000
DTEND;TZID=Europe/Prague:20100406T200000
CATEGORIES:sportovní, squash
LOCATION:Praha
WEBSITE:http://mostek-hamr.jdem.cz/
URL:http://mostek-hamr.jdem.cz/
CONTACT:777 613 123
ORGANIZER:Simona, Andrea N
ATTACH;FMTTYPE="image/jpeg":http://storage.ning.com/topology/rest/1.0/
 file/get/1675385915?profile=original
ATTENDEE;ROLE=REQ-PARTICIPANT;PARTSTAT=ACCEPTED;RSVP=TRUE;CN=JiříK:h
 ttp://www.prijdapotkej.cz/profile/JiriK479
ATTENDEE;ROLE=REQ-PARTICIPANT;PARTSTAT=TENTATIVE;RSVP=TRUE;CN="PaPík 
 Náčelník":http://www.prijdapotkej.cz/profile/PaPik
END:VEVENT
END:VCALENDAR
