BEGIN:VCALENDAR
PRODID:NingEventWidget-v1
VERSION:2.0
METHOD:PUBLISH
BEGIN:VTIMEZONE
TZID:Europe/Prague
X-LIC-LOCATION:Europe/Prague
BEGIN:DAYLIGHT
TZOFFSETFROM:+0100
TZOFFSETTO:+0200
TZNAME:CEST
DTSTART:19700329T020000
RRULE:FREQ=YEARLY;BYMONTH=3;BYDAY=-1SU
END:DAYLIGHT
BEGIN:STANDARD
TZOFFSETFROM:+0200
TZOFFSETTO:+0100
TZNAME:CET
DTSTART:19701025T030000
RRULE:FREQ=YEARLY;BYMONTH=10;BYDAY=-1SU
END:STANDARD
END:VTIMEZONE
BEGIN:VEVENT
UID:3602455:Event:356732
DTSTAMP:20260419T152922Z
SUMMARY:Squash č.20
DESCRIPTION:Ahoj PaPíci.  Pokud budete mít zájem, můžeme si opět
  zahrát squash v neděli 21.1.2018. Nemusí to být turnaj a nemusím
 e to ani počítat - prostě si zahrát pro radost z pohybu :)  Budeme
  mít rezervované 2 kurty na 2 hodiny na HAMRU v Záběhlicích (http
 ://www.hamrsport.cz/cs/zabehlice/), takže pro maximálně 8 účastn
 ků.  Sraz: 14:45 na recepci Hamr Sport - Záběhlice  Hra: 15:00 - 1
 7:00 Po hře posedíme v místní restauraci a můžeme zhodnotit spor
 tovní výkony či poklábosit o čemkoliv :o)  Cena: 100 kč (bude ro
 zpočítáno dle účasti) (Cena zahrnuje: pronájem kurtů, organizac
 i, milou společnost, příspěvek na provoz PaP.)  Číslo účtu: 10
 31481016 / 3030 Do kolonky \"Zpráva pro příjemce\", prosím, napiš
 te \"squash 21.1.\". Po zaplacení, prosím, napište komentář, že 
 jste zaplatili.  Doporučuji s sebou:  - raketu (kdo nemá, lze půjč
 it na recepci za 50 kč), - čistou sálovou obuv, - sportovní obleč
 ení, - ručník a mýdlo (zapotíte se :o)).  Zaplaceno mají:  - \n\
 nPro další informace navštivte http://www.prijdapotkej.cz/events/sq
 uash-c-20
DTSTART;TZID=Europe/Prague:20180121T144500
DTEND;TZID=Europe/Prague:20180121T174500
CATEGORIES:seznámení, sportovní
LOCATION:Praha
WEBSITE:http://www.hamrsport.cz/cs/zabehlice/
URL:http://www.hamrsport.cz/cs/zabehlice/
CONTACT:
ORGANIZER;CN="Veronika (PaP)":http://www.prijdapotkej.cz/profile/Veron
 ika898
ATTACH;FMTTYPE="image/jpeg":http://storage.ning.com/topology/rest/1.0/
 file/get/1675454013?profile=original
ATTENDEE;ROLE=REQ-PARTICIPANT;PARTSTAT=ACCEPTED;RSVP=TRUE;CN="Veronika
  (PaP)":http://www.prijdapotkej.cz/profile/Veronika898
ATTENDEE;ROLE=REQ-PARTICIPANT;PARTSTAT=ACCEPTED;RSVP=TRUE;CN=Jiří:ht
 tp://www.prijdapotkej.cz/profile/Jiri265
ATTENDEE;ROLE=REQ-PARTICIPANT;PARTSTAT=ACCEPTED;RSVP=TRUE;CN=Tritol:ht
 tp://www.prijdapotkej.cz/profile/LubomirBlaha
ATTENDEE;ROLE=REQ-PARTICIPANT;PARTSTAT=ACCEPTED;RSVP=TRUE;CN="Alex Unt
 ilov":http://www.prijdapotkej.cz/profile/AlexUntilov
ATTENDEE;ROLE=REQ-PARTICIPANT;PARTSTAT=ACCEPTED;RSVP=TRUE;CN=jihulak:h
 ttp://www.prijdapotkej.cz/profile/jihulak
ATTENDEE;ROLE=REQ-PARTICIPANT;PARTSTAT=ACCEPTED;RSVP=TRUE;CN="Drahušk
 a Bechyňová":http://www.prijdapotkej.cz/profile/DrahuskaBechynova
ATTENDEE;ROLE=REQ-PARTICIPANT;PARTSTAT=ACCEPTED;RSVP=TRUE;CN="Jan Baue
 r":http://www.prijdapotkej.cz/profile/JanBauer
ATTENDEE;ROLE=REQ-PARTICIPANT;PARTSTAT=TENTATIVE;RSVP=TRUE;CN="Lucka D
 ":http://www.prijdapotkej.cz/profile/LuckaD
END:VEVENT
END:VCALENDAR
